BEGIN:VCALENDAR
VERSION:2.0
PRODID:-//ChamberMaster//Event Calendar 2.0//EN
METHOD:PUBLISH
X-PUBLISHED-TTL:P3D
REFRESH-INTERVAL:P3D
CALSCALE:GREGORIAN
BEGIN:VEVENT
DTSTART:20260110T000000Z
DTEND:20260110T020000Z
X-MICROSOFT-CDO-ALLDAYEVENT:FALSE
SUMMARY:Middlesex Chamber goes to UConn Hockey Game
DESCRIPTION:Join us for a fun night out at a UConn Men's Hockey Game!\n\n \n\nOn Friday\, January 9th the UConn Men's Hockey team will play UMass Lowell at the PeoplesBank Arena (formerly XL Center\,) and the Middlesex Chamber will be there to cheer them on.\n\n\n\nIt's a great chance to spend time with Chamber members\, meet new people\, and enjoy an exciting game. Bring your kids\, invite your family and friends - everyone's welcome! \n\n\n\nFor directions and parking information at the PeoplesBank Arena\, click here.
X-ALT-DESC;FMTTYPE=text/html:<strong>Join us for a fun night out at a UConn Men&#39\;s Hockey Game!</strong><br />\n&nbsp\;<br />\nOn Friday\, January 9th the UConn Men&rsquo\;s Hockey team will play UMass Lowell at the PeoplesBank Arena (formerly XL Center\,) and the Middlesex Chamber will be there to cheer them on.<br />\n<br />\nIt&rsquo\;s a great chance to spend time with Chamber members\, meet new people\, and enjoy an exciting game. Bring your kids\, invite your family and friends - everyone&#39\;s welcome!&nbsp\;<br />\n<br />\nFor directions and parking information at the PeoplesBank Arena\, <u><a href="https://www.xlcenter.com/plan-your-visit/directions-parking"><span style="color:#0000FF\;">click here.</span></a></u>
LOCATION:PeoplesBank Arena (formerly XL Center) One Civic Center Plaza Hartford\, CT
UID:e.1932.33919
SEQUENCE:3
DTSTAMP:20260424T181945Z
URL:https://business.middlesexchamber.com/events/details/middlesex-chamber-goes-to-uconn-hockey-game-33919
END:VEVENT

END:VCALENDAR
