BEGIN:VCALENDAR
VERSION:2.0
PRODID:-//ChamberMaster//Event Calendar 2.0//EN
METHOD:PUBLISH
X-PUBLISHED-TTL:P3D
REFRESH-INTERVAL:P3D
CALSCALE:GREGORIAN
BEGIN:VEVENT
DTSTART:20250806T200000Z
DTEND:20250806T220000Z
X-MICROSOFT-CDO-ALLDAYEVENT:FALSE
SUMMARY:Middlesex Chamber Building Demolition Party!
DESCRIPTION:You're Invited to the Chamber Demolition Party!    \n\n\n\nJoin us as we begin celebrating big changes at the Middlesex County Chamber of Commerce!\n\n\n\nJoin us for a Demolition Party as we officially break ground on a new era for our historic building at 393 Main Street. Our beloved 1915 building is getting a top-to-bottom transformation.\n\n\n\n  Enjoy light appetizers and drinks as we kick off this exciting renovation together!\n\n\n\nAfter decades of serving the business community\, the space was due for serious updates from accessibility and energy efficiency to preserving its architectural charm. This grant was awarded in recognition of the Chamber's vital role in economic development and community leadership\, and it will allow us to modernize our headquarters while staying rooted in the heart of Middletown.
X-ALT-DESC;FMTTYPE=text/html:<strong data-end="226" data-start="167">&#127881\; You&rsquo\;re Invited to the Chamber Demolition Party! &#127959\;&#65039\;&#10024\;</strong><br />\n<br data-end="229" data-start="226" />\nJoin us as we begin celebrating <em data-end="299" data-start="286">big changes</em> at the Middlesex County Chamber of Commerce!<br />\n<br />\nJoin us for a <strong data-end="379" data-start="359">Demolition Party</strong> as we officially break ground on a new era for our historic building at 393 Main Street. Our beloved 1915 building is getting a top-to-bottom transformation.<br />\n<br />\n&#127880\; Enjoy light appetizers and drinks as we kick off this exciting renovation together!<br />\n<br />\nAfter decades of serving the business community\, the space was due for serious updates&mdash\;from accessibility and energy efficiency to preserving its architectural charm. This grant was awarded in recognition of the Chamber&rsquo\;s vital role in economic development and community leadership\, and it will allow us to modernize our headquarters while staying rooted in the heart of Middletown.
LOCATION:Middlesex County Chamber of Commerce 393 Main Street Middletown\, CT 06457
UID:e.1932.32502
SEQUENCE:3
DTSTAMP:20260425T000009Z
URL:https://business.middlesexchamber.com/events/details/middlesex-chamber-building-demolition-party-32502
END:VEVENT

END:VCALENDAR
