BEGIN:VCALENDAR
VERSION:2.0
PRODID:-//ChamberMaster//Event Calendar 2.0//EN
METHOD:PUBLISH
X-PUBLISHED-TTL:P3D
REFRESH-INTERVAL:P3D
CALSCALE:GREGORIAN
BEGIN:VEVENT
DTSTART:20220722T220000Z
DTEND:20220723T030000Z
X-MICROSOFT-CDO-ALLDAYEVENT:FALSE
SUMMARY:MFEF Black & Gold Adult Prom Night 2022
DESCRIPTION:We at the March For Education Foundation invite you experience your first Prom Night as an adult. \n\n\n\n\n\nThis is your chance to dress to impress with Black and Gold\, Invite a date or bring the crowd\, have a great dinner\, enjoy the drinks and dance the evening away with Hot 93.7's DJ Craig G spinning the sounds.\n\n \n\n\n\nWe will also choose our Prom King and Queen for the evening and have prizes available for guests.\n\n \n\n\n\nTickets are $45.00 that includes dinner and drinks.\n\n \n\n\n\nGet your tickets now before they are sold out.\n\n\n\nInquire about purchasing a VIP table by calling (203) 643-7986 or email info@marchforeducation.com\n\n \n\n\n\nSee you on Prom Night!\n\n \n\n\n\nAs a Not-For-Profit 501(C)3 entity\, proceeds will assist us in continuing our mission to host positive projects and programs for youth and adults.
X-ALT-DESC;FMTTYPE=text/html:<div>\n<div style="text-align:start"><span dir="auto">We at the March For Education Foundation invite you experience your first Prom Night as an adult. </span></div>\n</div>\n\n<div>\n<div style="text-align:start"><br />\n<span dir="auto">This is your chance to dress to impress with Black and Gold\, Invite a date or bring the crowd\, have a great dinner\, enjoy the drinks and dance the evening away with Hot 93.7&rsquo\;s DJ Craig G spinning the sounds.</span></div>\n\n<div style="text-align:start">&nbsp\;</div>\n</div>\n\n<div>\n<div style="text-align:start"><span dir="auto">We will also choose our Prom King and Queen for the evening and have prizes available for guests.</span></div>\n\n<div style="text-align:start">&nbsp\;</div>\n</div>\n\n<div>\n<div style="text-align:start"><span dir="auto">Tickets are $45.00 that includes dinner and drinks.</span></div>\n\n<div style="text-align:start">&nbsp\;</div>\n</div>\n\n<div>\n<div style="text-align:start"><span dir="auto">Get your tickets now before they are sold out.</span></div>\n</div>\n\n<div>\n<div style="text-align:start"><span dir="auto">Inquire about purchasing a VIP table by calling (203) 643-7986 or email info@marchforeducation.com</span></div>\n\n<div style="text-align:start">&nbsp\;</div>\n</div>\n\n<div>\n<div style="text-align:start"><span dir="auto">See you on Prom Night!</span></div>\n\n<div style="text-align:start">&nbsp\;</div>\n</div>\n\n<div>\n<div style="text-align:start"><span dir="auto">As a Not-For-Profit 501(C)3 entity\, proceeds will assist us in continuing our mission to host positive projects and programs for youth and adults.</span></div>\n</div>\n
LOCATION:Falcon's Grove 144 Prout Hill Road Middletown\, CT 06457
UID:e.1932.23616
SEQUENCE:3
DTSTAMP:20260421T033344Z
URL:https://business.middlesexchamber.com/events/details/mfef-black-gold-adult-prom-night-2022-23616
END:VEVENT

END:VCALENDAR
