BEGIN:VCALENDAR
VERSION:2.0
PRODID:-//ChamberMaster//Event Calendar 2.0//EN
METHOD:PUBLISH
X-PUBLISHED-TTL:P3D
REFRESH-INTERVAL:P3D
CALSCALE:GREGORIAN
BEGIN:VEVENT
DTSTART:20200715T160000Z
DTEND:20200715T170000Z
X-MICROSOFT-CDO-ALLDAYEVENT:FALSE
SUMMARY:MEWS + PRESENTS Midweek Marketing Workshop Series/ Smart Social Media Part 1: Planning
DESCRIPTION:Smart Social Media Part 1: Planning\n\n\nFacebook\, Twitter\, Instagram\, LinkedIn\, TikTok\, SnapChat  the list goes on\, and so do your options when it comes to social media platforms.  So how do you choose the right channels for your business? \n\n \n\nDuring this webinar\, we'll discuss the opportunities social media brings to startups and small businesses\, which platforms are best suited for your business type\, and how to develop an efficient and effective social media plan that allows you to be engaging and grow your business\, but that won't consume your every waking hour.\nCLICK HERE TO REGISTER\n\n\nMidweek Marketing is a nine-week interactive webinar series that shares smart\, effective marketing strategies with startups and small business owners who want to grow and get more impact from their marketing efforts.\n\n \n\nWhether you're a brand new business\, or established and ready to grow\, Midweek Marketing will challenge you to market on a higher level. It's designed to turn you into an effective\, efficient marketer fueling better outcomes and abundant opportunities for growth.\n\n \n\n \n\nPresented by Rebecca Mead of INQ Creative & Consulting\, and sponsored by The MEWS+\, a program of The Middlesex County Chamber of Commerce.  The MEWS+ fosters a culture of innovative entrepreneurship through high-quality services\, affordable workspace\, and the connections required to catalyze the entrepreneurial\, startup\, and small business communities in Middletown and Middlesex County.\n\n \n\n \n\nAbout the Presenter\n\nRebecca Mead is an entrepreneur and creative consultant with a passion for helping startups\, small businesses\, and non-profits communicate more effectively so they can grow and advance their missions. She founded INQ Creative & Consulting to champion small organizations\, increase their visibility\, and help them communicate more effectively through smart marketing outreach. inqcreative.com\n\n \n\nThroughout the webinar series\, Rebecca will be joined by local marketing and public relations specialists.
X-ALT-DESC;FMTTYPE=text/html:<h1 style="text-align: center\;"><span style="font-size:20px\;"><strong>Smart Social Media Part 1: Planning</strong></span></h1>\n<br />\nFacebook\, Twitter\, Instagram\, LinkedIn\, TikTok\, SnapChat&hellip\; the list goes on\, and so do your options when it comes to social media platforms.&nbsp\; So how do you choose the right channels for your business?&nbsp\;<br />\n&nbsp\;<br />\nDuring this webinar\, we&rsquo\;ll discuss the opportunities social media brings to startups and small businesses\, which platforms are best suited for your business type\, and how to develop an efficient and effective social media plan that allows you to be engaging and grow your business\, but that won&rsquo\;t consume your every waking hour.\n<div style="text-align: center\;"><u><a href="https://midweekmarketing.co/">CLICK HERE TO REGISTER</a></u></div>\n<br />\nMidweek Marketing is a nine-week interactive webinar series that shares smart\, effective marketing strategies with startups and small business owners who want to grow and get more impact from their marketing efforts.<br />\n&nbsp\;<br />\nWhether you&rsquo\;re a brand new business\, or established and ready to grow\, Midweek Marketing will challenge you to market on a higher level. It&rsquo\;s designed to turn you into an effective\, efficient marketer fueling better outcomes and abundant opportunities for growth.<br />\n&nbsp\;<br />\n&nbsp\;<br />\nPresented by Rebecca Mead of INQ Creative &amp\; Consulting\, and sponsored by The MEWS+\, a program of The Middlesex County Chamber of Commerce.&nbsp\; The MEWS+ fosters a culture of innovative entrepreneurship through high-quality services\, affordable workspace\, and the connections required to catalyze the entrepreneurial\, startup\, and small business communities in Middletown and Middlesex County.<br />\n&nbsp\;<br />\n&nbsp\;<br />\n<em>About the Presenter</em><br />\nRebecca Mead is an entrepreneur and creative consultant with a passion for helping startups\, small businesses\, and non-profits communicate more effectively so they can grow and advance their missions. She founded INQ Creative &amp\; Consulting to champion small organizations\, increase their visibility\, and help them communicate more effectively through smart marketing outreach. inqcreative.com<br />\n&nbsp\;<br />\nThroughout the webinar series\, Rebecca will be joined by local marketing and public relations specialists.&nbsp\;<br />\n&nbsp\;
LOCATION:VIA ZOOM
UID:e.1932.18141
SEQUENCE:3
DTSTAMP:20260425T213029Z
URL:https://business.middlesexchamber.com/events/details/mews-presents-midweek-marketing-workshop-series-smart-social-media-part-1-planning-18141
END:VEVENT

END:VCALENDAR
