BEGIN:VCALENDAR
VERSION:2.0
PRODID:-//ChamberMaster//Event Calendar 2.0//EN
METHOD:PUBLISH
X-PUBLISHED-TTL:P3D
REFRESH-INTERVAL:P3D
CALSCALE:GREGORIAN
BEGIN:VEVENT
DTSTART:20200812T160000Z
DTEND:20200812T170000Z
X-MICROSOFT-CDO-ALLDAYEVENT:FALSE
SUMMARY:MEWS + PRESENTS Midweek Marketing Workshop Series/ Measuring Your Marketing Part 1: What to Measure
DESCRIPTION:Measuring Your Marketing Part 1:\n\nWhat to Measure\n\n\nHow do you know if your marketing efforts are working?  How do you measure the return on investment for your campaigns?  If you're not measuring your marketing outreach\, you're missing out - not only on knowing if and how your time and resources are affecting your business growth\, but also missing out on opportunities to make changes to influence the success of future marketing initiatives. \n\n \n\nIn this webinar\, we'll look at the metrics you should be monitoring for your website\, your e-mail\, and social media channels\, and benchmark against industry-specific metrics as a guide.\n\n\nCLICK HERE TO REGISTER\n\n \n\nMidweek Marketing is a nine-week interactive webinar series that shares smart\, effective marketing strategies with startups and small business owners who want to grow and get more impact from their marketing efforts.\n\n \n\nWhether you're a brand new business\, or established and ready to grow\, Midweek Marketing will challenge you to market on a higher level. It's designed to turn you into an effective\, efficient marketer fueling better outcomes and abundant opportunities for growth.\n\n \n\n \n\nPresented by Rebecca Mead of INQ Creative & Consulting\, and sponsored by The MEWS+\, a program of The Middlesex County Chamber of Commerce.  The MEWS+ fosters a culture of innovative entrepreneurship through high-quality services\, affordable workspace\, and the connections required to catalyze the entrepreneurial\, startup\, and small business communities in Middletown and Middlesex County.\n\n \n\n \n\nAbout the Presenter\n\nRebecca Mead is an entrepreneur and creative consultant with a passion for helping startups\, small businesses\, and non-profits communicate more effectively so they can grow and advance their missions. She founded INQ Creative & Consulting to champion small organizations\, increase their visibility\, and help them communicate more effectively through smart marketing outreach. inqcreative.com\n\n \n\nThroughout the webinar series\, Rebecca will be joined by local marketing and public relations specialists.
X-ALT-DESC;FMTTYPE=text/html:<h1 style="text-align: center\;"><strong>Measuring Your Marketing Part 1:<br />\nWhat to Measure</strong></h1>\n<br />\nHow do you know if your marketing efforts are working?&nbsp\; How do you measure the return on investment for your campaigns?&nbsp\; If you&rsquo\;re not measuring your marketing outreach\, you&rsquo\;re missing out - not only on knowing if and how your time and resources are affecting your business growth\, but also missing out on opportunities to make changes to influence the success of future marketing initiatives.&nbsp\;<br />\n&nbsp\;<br />\nIn this webinar\, we&rsquo\;ll look at the metrics you should be monitoring for your website\, your e-mail\, and social media channels\, and benchmark against industry-specific metrics as a guide.\n<div style="text-align: center\;"><br />\n<u><a href="https://midweekmarketing.co/">CLICK HERE TO REGISTER</a></u><br />\n&nbsp\;</div>\n\n<div>Midweek Marketing is a nine-week interactive webinar series that shares smart\, effective marketing strategies with startups and small business owners who want to grow and get more impact from their marketing efforts.<br />\n&nbsp\;<br />\nWhether you&rsquo\;re a brand new business\, or established and ready to grow\, Midweek Marketing will challenge you to market on a higher level. It&rsquo\;s designed to turn you into an effective\, efficient marketer fueling better outcomes and abundant opportunities for growth.<br />\n&nbsp\;<br />\n&nbsp\;<br />\nPresented by Rebecca Mead of INQ Creative &amp\; Consulting\, and sponsored by The MEWS+\, a program of The Middlesex County Chamber of Commerce.&nbsp\; The MEWS+ fosters a culture of innovative entrepreneurship through high-quality services\, affordable workspace\, and the connections required to catalyze the entrepreneurial\, startup\, and small business communities in Middletown and Middlesex County.<br />\n&nbsp\;<br />\n&nbsp\;<br />\n<em>About the Presenter</em><br />\nRebecca Mead is an entrepreneur and creative consultant with a passion for helping startups\, small businesses\, and non-profits communicate more effectively so they can grow and advance their missions. She founded INQ Creative &amp\; Consulting to champion small organizations\, increase their visibility\, and help them communicate more effectively through smart marketing outreach. inqcreative.com<br />\n&nbsp\;<br />\nThroughout the webinar series\, Rebecca will be joined by local marketing and public relations specialists.&nbsp\;<br />\n&nbsp\;<br />\n<br />\n&nbsp\;</div>\n
LOCATION:VIA ZOOM
UID:e.1932.18144
SEQUENCE:3
DTSTAMP:20260425T225233Z
URL:https://business.middlesexchamber.com/events/details/mews-presents-midweek-marketing-workshop-series-measuring-your-marketing-part-1-what-to-measure-18144
END:VEVENT

END:VCALENDAR
