BEGIN:VCALENDAR
VERSION:2.0
PRODID:-//ChamberMaster//Event Calendar 2.0//EN
METHOD:PUBLISH
X-PUBLISHED-TTL:P3D
REFRESH-INTERVAL:P3D
CALSCALE:GREGORIAN
BEGIN:VEVENT
DTSTART:20200708T160000Z
DTEND:20200708T170000Z
X-MICROSOFT-CDO-ALLDAYEVENT:FALSE
SUMMARY:MEWS + PRESENTS Midweek Marketing Workshop Series/E-mail Marketing for Start-Ups and Small Businesses
DESCRIPTION:E-mail Marketing for Start-Ups and Small Businesses\n\n\nDespite declarations to the contrary\, e-mail is still the number one way to communicate with customers. With conversion rates that outperform social media\, creating and maintaining email communications with your prospects and customers will build your brand\, deliver value to your audience\, and grow your business. \n\n \n\nIn this webinar\, we'll cover best practices for subject lines\, design considerations\, automation and nurturing campaigns\, and metrics to evaluate your success.  We'll also discuss how to set a schedule that you can stick with so that subscribers stick with you!\n\n\nCLICK HERE TO REGISTER\n\n\nMidweek Marketing is a nine-week interactive webinar series that shares smart\, effective marketing strategies with startups and small business owners who want to grow and get more impact from their marketing efforts.\n\n \n\nWhether you're a brand new business\, or established and ready to grow\, Midweek Marketing will challenge you to market on a higher level. It's designed to turn you into an effective\, efficient marketer fueling better outcomes and abundant opportunities for growth.\n\n \n\n \n\nPresented by Rebecca Mead of INQ Creative & Consulting\, and sponsored by The MEWS+\, a program of The Middlesex County Chamber of Commerce.  The MEWS+ fosters a culture of innovative entrepreneurship through high-quality services\, affordable workspace\, and the connections required to catalyze the entrepreneurial\, startup\, and small business communities in Middletown and Middlesex County.\n\n \n\n \n\nAbout the Presenter\n\nRebecca Mead is an entrepreneur and creative consultant with a passion for helping startups\, small businesses\, and non-profits communicate more effectively so they can grow and advance their missions. She founded INQ Creative & Consulting to champion small organizations\, increase their visibility\, and help them communicate more effectively through smart marketing outreach. inqcreative.com\n\n \n\nThroughout the webinar series\, Rebecca will be joined by local marketing and public relations specialists.
X-ALT-DESC;FMTTYPE=text/html:<div style="text-align: center\;"><span style="font-size:20px\;"><span style="font-family:comic sans ms\;"><strong>E-mail Marketing for Start-Ups and Small Businesses</strong></span></span></div>\n<br />\nDespite declarations to the contrary\, e-mail is still the number one way to communicate with customers. With conversion rates that outperform social media\, creating and maintaining email communications with your prospects and customers will build your brand\, deliver value to your audience\, and grow your business.&nbsp\;<br />\n&nbsp\;<br />\nIn this webinar\, we&rsquo\;ll cover best practices for subject lines\, design considerations\, automation and nurturing campaigns\, and metrics to evaluate your success.&nbsp\; We&rsquo\;ll also discuss how to set a schedule that you can stick with so that subscribers stick with you!\n<div style="text-align: center\;"><br />\n<u><a href="https://midweekmarketing.co/">CLICK HERE TO REGISTER</a></u></div>\n<br />\nMidweek Marketing is a nine-week interactive webinar series that shares smart\, effective marketing strategies with startups and small business owners who want to grow and get more impact from their marketing efforts.<br />\n&nbsp\;<br />\nWhether you&rsquo\;re a brand new business\, or established and ready to grow\, Midweek Marketing will challenge you to market on a higher level. It&rsquo\;s designed to turn you into an effective\, efficient marketer fueling better outcomes and abundant opportunities for growth.<br />\n&nbsp\;<br />\n&nbsp\;<br />\nPresented by Rebecca Mead of INQ Creative &amp\; Consulting\, and sponsored by The MEWS+\, a program of The Middlesex County Chamber of Commerce.&nbsp\; The MEWS+ fosters a culture of innovative entrepreneurship through high-quality services\, affordable workspace\, and the connections required to catalyze the entrepreneurial\, startup\, and small business communities in Middletown and Middlesex County.<br />\n&nbsp\;<br />\n&nbsp\;<br />\n<em>About the Presenter</em><br />\nRebecca Mead is an entrepreneur and creative consultant with a passion for helping startups\, small businesses\, and non-profits communicate more effectively so they can grow and advance their missions. She founded INQ Creative &amp\; Consulting to champion small organizations\, increase their visibility\, and help them communicate more effectively through smart marketing outreach. inqcreative.com<br />\n&nbsp\;<br />\nThroughout the webinar series\, Rebecca will be joined by local marketing and public relations specialists.&nbsp\;<br />\n&nbsp\;
LOCATION:
UID:e.1932.18140
SEQUENCE:3
DTSTAMP:20260425T213050Z
URL:https://business.middlesexchamber.com/events/details/mews-presents-midweek-marketing-workshop-series-e-mail-marketing-for-start-ups-and-small-businesses-18140
END:VEVENT

END:VCALENDAR
