BEGIN:VCALENDAR
VERSION:2.0
PRODID:-//ChamberMaster//Event Calendar 2.0//EN
METHOD:PUBLISH
X-PUBLISHED-TTL:P3D
REFRESH-INTERVAL:P3D
CALSCALE:GREGORIAN
BEGIN:VEVENT
DTSTART:20180806T210000Z
DTEND:20180807T000000Z
X-MICROSOFT-CDO-ALLDAYEVENT:FALSE
SUMMARY:MEWS+ Open House
DESCRIPTION:Are you an entrepreneur?\n\n \n\nAre you a home-based business?\n\n \n\nAre you interested in a co-working opportunity?\n\n \n\nIf so\, come check out the MEWS+!\n \n\nThe MEWS+\n\n \n\nThe Middlesex County Chamber of Commerce recently converted the second floor of its Main Street facility into a co-working space for use by our region's entrepreneur community. The chamber's goal is to turn the MEWS+ into a great place to start a new business or grow an existing company. As a co-working initiative\, it provides not only a place to work\, but also a collaborative working environment. The shared workspace environment will attract a creative class of developers\, designers\, strategists\, artisans\, writers\, inventors\, engineers and professional office nomads. This initiative is designed to be a resource for freelancers\, start-up businesses and small businesses\, and the Wesleyan University community. \n\n \n\nThe MEWS+ space includes: \n\n \n\nOver 600+ Sq. ft. of dedicated Co-working space\n\nShared Work Stations & Collaboration Tables\n\nHigh Speed WiFi\n\nAccess to the Chamber Conference Space with Smart TV\n\nPitch Nights\n\nEntrepreneurial Peer Networking\n\nBusiness Mentoring\n\nand much more!\n\n \n\nIn addition to the co-working space\, the MEWS+ will develop a series of "Meet-ups" in Middletown that will attract businesses and entrepreneurs of all shapes and sizes.\n\n \n\nFor more information on membership at the MEWS+\, please contact Jeff Pugliese at 860-347-6924 or jpugliese@middlesexchamber.com
X-ALT-DESC;FMTTYPE=text/html:<div style="text-align: center\;"><br />\n<span style="font-family:arial\,sans-serif\;"><span style="font-size:12.0pt\;">Are you an entrepreneur?</span></span><br />\n&nbsp\;<br />\n<span style="font-family:arial\,sans-serif\;"><span style="font-size:12.0pt\;">Are you a home-based business?</span></span><br />\n&nbsp\;<br />\n<span style="font-family:arial\,sans-serif\;"><span style="font-size:12.0pt\;">Are you interested in a co-working opportunity?</span></span><br />\n&nbsp\;<br />\n<span style="font-family:arial\,sans-serif\;"><span style="font-size:12.0pt\;">If so\, come check out the MEWS+!</span></span></div>\n&nbsp\;<br />\n<strong><span style="font-family:arial\,sans-serif\;"><span style="font-size:12.0pt\;">The MEWS+</span></span></strong><br />\n&nbsp\;<br />\n<span style="font-family:arial\,sans-serif\;"><span style="font-size:12.0pt\;">The Middlesex County Chamber of Commerce recently converted the second floor of its Main Street facility into a co-working space for use by our region&#39\;s entrepreneur community. The chamber&rsquo\;s goal is to turn the MEWS+ into a great place to start a new business or grow an existing company. As a co-working initiative\, it provides not only a place to work\, but also a collaborative working environment. The shared workspace environment will attract a creative class of developers\, designers\, strategists\, artisans\, writers\, inventors\, engineers and professional office nomads. This initiative is designed to be a resource for freelancers\, start-up businesses and small businesses\, and the Wesleyan University community.&nbsp\;</span></span><br />\n&nbsp\;<br />\n<strong><span style="font-family:arial\,sans-serif\;"><span style="font-size:12.0pt\;">The MEWS+ space includes: </span></span></strong><br />\n&#65279\;<br />\n<span style="font-family:arial\,sans-serif\;"><span style="font-size:12.0pt\;">Over 600+ Sq. ft. of dedicated Co-working space</span></span><br />\n<span style="font-family:arial\,sans-serif\;"><span style="font-size:12.0pt\;">Shared Work Stations &amp\; Collaboration Tables</span></span><br />\n<span style="font-family:arial\,sans-serif\;"><span style="font-size:12.0pt\;">High Speed WiFi</span></span><br />\n<span style="font-family:arial\,sans-serif\;"><span style="font-size:12.0pt\;">Access to the Chamber Conference Space with Smart TV</span></span><br />\n<span style="font-family:arial\,sans-serif\;"><span style="font-size:12.0pt\;">Pitch Nights</span></span><br />\n<span style="font-family:arial\,sans-serif\;"><span style="font-size:12.0pt\;">Entrepreneurial Peer Networking</span></span><br />\n<span style="font-family:arial\,sans-serif\;"><span style="font-size:12.0pt\;">Business Mentoring</span></span><br />\n<span style="font-family:arial\,sans-serif\;"><span style="font-size:12.0pt\;">and much more!</span></span><br />\n&nbsp\;<br />\n<span style="font-family:arial\,sans-serif\;"><span style="font-size:12.0pt\;">In addition to the co-working space\, the MEWS+ will develop a series of &ldquo\;Meet-ups&rdquo\; in Middletown that will attract businesses and entrepreneurs of all shapes and sizes.</span></span><br />\n&nbsp\;<br />\n<font face="arial\, sans-serif"><span style="font-size: 16px\;"><b>For more information on membership at the MEWS+\, please contact Jeff Pugliese at 860-347-6924 or jpugliese@middlesexchamber.com&nbsp\;</b></span></font><br />\n&nbsp\;
LOCATION:MEWS+ 393 Main Street Middletown\, CT
UID:e.1932.7655
SEQUENCE:3
DTSTAMP:20260421T083617Z
URL:https://business.middlesexchamber.com/events/details/mews-open-house-7655
END:VEVENT

END:VCALENDAR
