BEGIN:VCALENDAR
VERSION:2.0
PRODID:-//ChamberMaster//Event Calendar 2.0//EN
METHOD:PUBLISH
X-PUBLISHED-TTL:P3D
REFRESH-INTERVAL:P3D
CALSCALE:GREGORIAN
BEGIN:VEVENT
DTSTART:20171128T220000Z
DTEND:20171129T000000Z
X-MICROSOFT-CDO-ALLDAYEVENT:FALSE
SUMMARY:MEWS+ Event
DESCRIPTION:Join us on Tuesday\, November 28 for an Innovation "Meet Up" in Middletown!\n\n\n\nThis event will feature:\n\n\n\nNetworking with local entrepreneurs and high growth companies\n\n\n\nA refresher on the Middlesex County Chamber of Commerce and its newly created Entrepreneur Council\n\n\n\nAn open discussion on the creation of a dynamic co-working initiative in Middletown\n\n\n\nBrief remarks from Steve Walsh\, President\, Wingsite Displays\, Inc.\n\n\n\nA Business Card Raffle featuring great prizes\n\n\n\nA tour of the many office options available for businesses and entrepreneurs at CenterPlace and OfficePlace\n\n \n\nA great spread of appetizers\, along with free beer and wine courtesy of OfficePlace Connecticut!
X-ALT-DESC;FMTTYPE=text/html:<br />\n<strong><span style="font-family:vrinda\,sans-serif\;"><span style="font-size:16.0pt\;">Join us on Tuesday\, November 28 for an Innovation &ldquo\;Meet Up&rdquo\; in Middletown!</span></span></strong><br />\n<br />\n<strong><u><span style="font-family:lao ui\,sans-serif\;"><span style="font-size:14.0pt\;">This event will feature:</span></span></u></strong><br />\n<br />\n<strong><span style="font-family:lao ui\,sans-serif\;"><span style="font-size:14.0pt\;">Networking with local entrepreneurs and high growth companies</span></span></strong><br />\n<br />\n<strong><span style="font-family:lao ui\,sans-serif\;"><span style="font-size:14.0pt\;">A refresher on the Middlesex County Chamber of Commerce and its newly created Entrepreneur Council</span></span></strong><br />\n<br />\n<strong><span style="font-family:lao ui\,sans-serif\;"><span style="font-size:14.0pt\;">An open discussion on the creation of a dynamic co-working initiative in Middletown</span></span></strong><br />\n<br />\n<strong><span style="font-family:lao ui\,sans-serif\;"><span style="font-size:14.0pt\;">Brief remarks from Steve Walsh\, President\, <a href="http://wingsitedisplays.com/">Wingsite Displays\, Inc.</a></span></span></strong><br />\n<br />\n<strong><span style="font-family:lao ui\,sans-serif\;"><span style="font-size:14.0pt\;">A Business Card Raffle featuring great prizes</span></span></strong><br />\n<br />\n<strong><span style="font-family:lao ui\,sans-serif\;"><span style="font-size:14.0pt\;">A tour of the many office options available for businesses and entrepreneurs at CenterPlace and OfficePlace<br />\n&#8203\;</span></span></strong><br />\n<strong><span style="font-family:lao ui\,sans-serif\;"><span style="font-size:14.0pt\;">A great spread of appetizers\, along with free beer and wine courtesy of OfficePlace Connecticut!</span></span></strong>
LOCATION:CenterPlace Connecticut 101 Centerpoint Drive Middletown\, CT
UID:e.1932.4784
SEQUENCE:3
DTSTAMP:20260422T150729Z
URL:https://business.middlesexchamber.com/events/details/mews-event-4784
END:VEVENT

END:VCALENDAR
