BEGIN:VCALENDAR
VERSION:2.0
PRODID:-//ChamberMaster//Event Calendar 2.0//EN
METHOD:PUBLISH
X-PUBLISHED-TTL:P3D
REFRESH-INTERVAL:P3D
CALSCALE:GREGORIAN
BEGIN:VEVENT
DTSTART:20171011T203000Z
DTEND:20171011T220000Z
X-MICROSOFT-CDO-ALLDAYEVENT:FALSE
SUMMARY:MEWS+ Event
DESCRIPTION:CALLING ALL ENTREPRENEURS!\n\nDoes your business have challenges?\n\nOf course\, what business doesn't?\n\nJoin your fellow chamber members/entrepreneurs to develop your   .\n\n5 Minute Solution!\n\nThis session is an important part of the\n\n2017 Connecticut Connections Event.\n\nHelp us continue our efforts to develop an innovation eco-system in Middlesex County.\n\n\n\n"Do you have a business problem you are having trouble solving?  The MEWS+ will host its "5 Minute  Solution" program at the Chamber Showcase on October 11th starting at 4:30 pm to help you solve the problem.  The program will give you an opportunity to have a crowd of your peers brainstorm answers to your most vexing business problem.  You'll have 5 Minutes to talk about it in front of your fellow entrepreneurs\, business counsellors and experienced business owners.  Then we'll brainstorm answers to your issue.  You'll walk away with solutions you never thought of!\n\n\n\nIf you have a problem you'd like to discuss\, please send a 2-3 line email describing it to our facilitator Tom Marano\, the City's economic development specialist at thomas.marano@middletownct.gov"\, the Chamber's Jeff Pugliese jpugliese@middlesexchamber.com and Marc Gallagher powrpc@powrpc.com who will review the submissions.  Don't hesitate.  We can only do 3-4 of these at our session.\n\n\n\nThis event will also feature:\n\n \n\nNetworking with local entrepreneurs and high growth companies\n\n \n\nAn introduction to the Middlesex County Chamber of Commerce and its newly created Entrepreneur Council\n\n \n\nAn open discussion on the creation of a dynamic co-working initiative in Middletown\n\n \n\nIdeas from fellow chamber members about how to improve your business!\n\n\n\nAbout the MEWS+ The MEWS+ is an exciting concept that will serve as a key component to the economic development initiatives currently underway in Middletown. The MEWS+ will be a resource for freelancers and entrepreneurs\, start-up businesses\, small businesses\, and the Wesleyan and Middlesex Community College communities. It will be a great place to start a new\n\ncompany\, or grow an existing company. As a co-working initiative\, it provides not only a place to work\, but also a collaborative working environment. This shared workspace environment will attract a creative class of developers\, designers\, strategists\, artisans\, writers\, inventors\, engineers\, and professional office nomads. Our goal is to create a truly dynamic public/private partnership that will fuel local innovation.
X-ALT-DESC;FMTTYPE=text/html:<div style="text-align: center\;"><br />\n<span style="font-size:28px\;"><strong><span style="color:black\;"><span style="font-family:vrinda-bold\,sans-serif\;">CALLING ALL ENTREPRENEURS!</span></span></strong></span><br />\n<span style="font-size:18px\;"><strong><span style="color:black\;"><span style="font-family:vrinda-bold\,sans-serif\;">Does your business have challenges?<br />\nOf course\, what business doesn&rsquo\;t?</span></span></strong><br />\n<strong><span style="color:black\;"><span style="font-family:vrinda-bold\,sans-serif\;">Join your fellow chamber members/entrepreneurs to develop your&hellip\;&hellip\;&hellip\;.</span></span></strong></span><br />\n<strong><span style="color:#C10000\;"><span style="font-family:vrinda-bold\,sans-serif\;"><span style="font-size:26.0pt\;">5 Minute Solution!</span></span></span></strong><br />\n<strong><span style="color:black\;"><span style="font-family:vrinda-bold\,sans-serif\;"><span style="font-size:14.0pt\;">This session is an important part of the<br />\n2017 Connecticut Connections Event.</span></span></span></strong><br />\n<strong><span style="color:black\;"><span style="font-family:vrinda-bold\,sans-serif\;"><span style="font-size:14.0pt\;">Help us continue our efforts to develop an innovation eco-system in Middlesex County.</span></span></span></strong><br />\n<br />\n<span style="language:en-US\;"><span style="font-family:calibri\;"><span style="font-size:12.0pt\;">&ldquo\;Do you have a business problem you are having trouble solving?&nbsp\; The MEWS+ will host its &ldquo\;5 Minute&nbsp\; Solution&rdquo\; program at the Chamber Showcase on October 11</span></span></span><span style="language:en-US\;"><span style="font-family:calibri\;"><span style="font-size:7.9919pt\;"><sup>th</sup></span></span></span><span style="language:en-US\;"><span style="font-family:calibri\;"><span style="font-size:12.0pt\;"> starting at 4:30 pm to help you solve the&nbsp\;problem.&nbsp\; The program will give you an opportunity to have a crowd of your peers brainstorm answers to your most vexing business problem.&nbsp\; You&rsquo\;ll have 5 Minutes to talk about it in front of your fellow entrepreneurs\, business counsellors and experienced business owners.&nbsp\; Then we&rsquo\;ll brainstorm answers to your issue.&nbsp\; You&rsquo\;ll walk away with solutions you never thought of!</span></span></span><br />\n<br />\n<span style="language:en-US\;"><span style="font-family:calibri\;"><span style="font-size:12.0pt\;">If you have a problem you&rsquo\;d like to discuss\, please send a 2-3 line email describing it to our facilitator Tom Marano\, the City&rsquo\;s economic development specialist at </span></span></span><a href="mailto:thomas.marano@middletownct.gov"><span style="font-family:calibri\;"><span style="font-size:12pt\;">thomas.marano@middletownct.gov</span></span></a><span style="language:en-US\;"><span style="font-family:calibri\;"><span style="font-size:12.0pt\;">&rdquo\;\, the Chamber&rsquo\;s Jeff Pugliese </span></span></span><a href="mailto:jpugliese@middlesexchamber.com"><span style="font-family:calibri\;"><span style="font-size:12pt\;">jpugliese@middlesexchamber.com</span></span></a><span style="language:en-US\;"><span style="font-family:calibri\;"><span style="font-size:12.0pt\;"> and Marc Gallagher </span></span></span><a href="mailto:powrpc@powrpc.com"><span style="font-family:calibri\;"><span style="font-size:12pt\;">powrpc@powrpc.com</span></span></a><span style="language:en-US\;"><span style="font-family:calibri\;"><span style="font-size:12.0pt\;"> who will review the submissions.&nbsp\; Don&rsquo\;t hesitate.&nbsp\; We can only do 3-4 of these at our session.</span></span></span><br />\n<br />\n<strong><span style="color:black\;"><span style="font-family:laoui-bold\,sans-serif\;"><span style="font-size:10.0pt\;">This event will also feature:</span></span></span></strong><br />\n&nbsp\;<br />\n<strong><span style="color:black\;"><span style="font-family:laoui-bold\,sans-serif\;"><span style="font-size:10.0pt\;">Networking with local entrepreneurs and high growth companies</span></span></span></strong><br />\n&nbsp\;<br />\n<strong><span style="color:black\;"><span style="font-family:laoui-bold\,sans-serif\;"><span style="font-size:10.0pt\;">An introduction to the Middlesex County Chamber of Commerce and its newly created Entrepreneur Council</span></span></span></strong><br />\n&nbsp\;<br />\n<strong><span style="color:black\;"><span style="font-family:laoui-bold\,sans-serif\;"><span style="font-size:10.0pt\;">An open discussion on the creation of a dynamic co-working initiative in Middletown</span></span></span></strong><br />\n&nbsp\;<br />\n<strong><span style="color:black\;"><span style="font-family:laoui-bold\,sans-serif\;"><span style="font-size:10.0pt\;">Ideas from fellow chamber members about how to improve your business!</span></span></span></strong></div>\n\n<div><br />\n<span style="color:black\;"><span style="font-family:segoeuisymbol\,sans-serif\;"><span style="font-size:10.0pt\;">About the MEWS+ The MEWS+ is an exciting concept that will serve as a key component to the economic development&nbsp\;</span></span></span><span style="color:black\;"><span style="font-family:segoeuisymbol\,sans-serif\;"><span style="font-size:10.0pt\;">initiatives currently underway in Middletown. </span></span></span><span style="color:black\;"><span style="font-family:segoeuisymbol\,sans-serif\;"><span style="font-size:10.0pt\;">The MEWS+ will be a resource for freelancers and entrepreneurs\, start-up businesses\, small&nbsp\;</span></span></span><span style="color:black\;"><span style="font-family:segoeuisymbol\,sans-serif\;"><span style="font-size:10.0pt\;">businesses\, and the Wesleyan and Middlesex Community College communities. It will be a great place to start a new</span></span></span><br />\n<span style="color:black\;"><span style="font-family:segoeuisymbol\,sans-serif\;"><span style="font-size:10.0pt\;">company\, or grow an existing company. As a co-working initiative\, it provides not only a place to work\, but also a&nbsp\;</span></span></span><span style="color:black\;"><span style="font-family:segoeuisymbol\,sans-serif\;"><span style="font-size:10.0pt\;">collaborative working environment. This shared workspace environment will attract a creative class of developers\,&nbsp\;</span></span></span><span style="color:black\;"><span style="font-family:segoeuisymbol\,sans-serif\;"><span style="font-size:10.0pt\;">designers\, strategists\, artisans\, writers\, inventors\, engineers\, and professional office nomads. Our goal is to create a truly&nbsp\;</span></span></span><span style="color:black\;"><span style="font-family:segoeuisymbol\,sans-serif\;"><span style="font-size:10.0pt\;">dynamic public/private partnership that will fuel local innovation.</span></span></span></div>\n
LOCATION:Radisson Hotel Cromwell 100 Berlin Road Cromwell\, CT
UID:e.1932.4664
SEQUENCE:3
DTSTAMP:20260423T175358Z
URL:https://business.middlesexchamber.com/events/details/mews-event-4664
END:VEVENT

END:VCALENDAR
