BEGIN:VCALENDAR
VERSION:2.0
PRODID:-//ChamberMaster//Event Calendar 2.0//EN
METHOD:PUBLISH
X-PUBLISHED-TTL:P3D
REFRESH-INTERVAL:P3D
CALSCALE:GREGORIAN
BEGIN:VEVENT
DTSTART;VALUE=DATE:20221106
DTEND;VALUE=DATE:20221107
TRANSP:TRANSPARENT
X-MICROSOFT-CDO-ALLDAYEVENT:TRUE
SUMMARY:Memorial of the Lost
DESCRIPTION:This memorial will be at the Church of the Holy Trinity (381 Main Street) for two weeks as a display on the church lawn.\n\n\n\nWhite T-shirts make up the Memorial of the Lost. Each shirt represents a person killed by others in intentional acts of gun violence in 2022 and includes the victim's name\, age and date of death.\n\n\n\nMore info about recent displays of this traveling memorial can be found here: https://www.courant.com/news/connecticut/hc-news--20220623-6ekoorcvefeczdpr4a4vqmabju-story.html
X-ALT-DESC;FMTTYPE=text/html:This memorial will be at the Church of the Holy Trinity (381 Main Street) for two weeks as a display on the church lawn.<br />\n<br />\nWhite T-shirts make up the Memorial of the Lost. Each shirt represents a person killed by others in intentional acts of gun violence in 2022 and includes the victim&#39\;s name\, age and date of death.<br />\n<br />\nMore info about recent displays of this traveling memorial can be found here: https://www.courant.com/news/connecticut/hc-news--20220623-6ekoorcvefeczdpr4a4vqmabju-story.html
LOCATION:Church of the Holy Trinity 381 Main Street Middletown\, CT
UID:e.1932.23955
SEQUENCE:3
DTSTAMP:20260420T233425Z
URL:https://business.middlesexchamber.com/events/details/memorial-of-the-lost-11-06-2022-23955
END:VEVENT

END:VCALENDAR
