BEGIN:VCALENDAR
VERSION:2.0
PRODID:-//ChamberMaster//Event Calendar 2.0//EN
METHOD:PUBLISH
X-PUBLISHED-TTL:P3D
REFRESH-INTERVAL:P3D
CALSCALE:GREGORIAN
BEGIN:VEVENT
DTSTART:20251020T110000Z
DTEND:20251020T130000Z
X-MICROSOFT-CDO-ALLDAYEVENT:FALSE
SUMMARY:Member Breakfast featuring Dan Hurley\, Head Men's Basketball Coach\, UConn
DESCRIPTION:Please join us in welcoming back Coach Dan Hurley\, who has generously joined us as a guest speaker each year since becoming the head coach at UConn. We're excited to have him return once again to share his insights and experiences with us.\n\nCoach Hurley will reflect on the incredible success of UConn Men's Basketball in recent years\, offer a look ahead at the upcoming season\, and much more. We're grateful to Coach Hurley for taking the time to be with us during such a busy period for him and his staff.\nNew Member: Please make note in the comment section of your registration if you are a new member and this is your first attendance at a breakfast meeting.\n\n \n\nDisplay Tables: Display Tables for members are available (no fee) in the hallway at the breakfast meeting and a request must be made\, by contacting Danielle Aletta at danielle@middlesexchamber.com  The requests are accepted on a first-come\, first-served basis.\n\n \n\nYou will be billed if cancellations are not made 2 business days prior to the event.
X-ALT-DESC;FMTTYPE=text/html:<p data-end="342" data-start="103"><strong>Please join us in welcoming back Coach Dan Hurley</strong>\, who has generously joined us as a guest speaker each year since becoming the head coach at UConn. We&rsquo\;re excited to have him return once again to share his insights and experiences with us.</p>\n\n<p data-end="610" data-start="344">Coach Hurley will reflect on the incredible success of UConn Men&rsquo\;s Basketball in recent years\, offer a look ahead at the upcoming season\, and much more. We&rsquo\;re grateful to Coach Hurley for taking the time to be with us during such a busy period for him and his staff.</p>\n<strong>New Member: </strong>Please make note in the comment section of your registration if you are a new member and this is your first attendance at a breakfast meeting.<br />\n&nbsp\;<br />\n<strong>Display Tables:</strong> Display Tables for members are available (no fee) in the hallway at the breakfast meeting and a request must be made\, by contacting Danielle Aletta at danielle@middlesexchamber.com&nbsp\; The requests are accepted on a first-come\, first-served basis.<br />\n&nbsp\;<br />\nYou will be billed if cancellations are not made 2 business days prior to the event.
LOCATION:Sheraton Hartford South Hotel 100 Capital Blvd Rocky Hill\, CT
UID:e.1932.33551
SEQUENCE:3
DTSTAMP:20260424T212917Z
URL:https://business.middlesexchamber.com/events/details/member-breakfast-featuring-dan-hurley-head-men-s-basketball-coach-uconn-33551
END:VEVENT

END:VCALENDAR
