BEGIN:VCALENDAR
VERSION:2.0
PRODID:-//ChamberMaster//Event Calendar 2.0//EN
METHOD:PUBLISH
X-PUBLISHED-TTL:P3D
REFRESH-INTERVAL:P3D
CALSCALE:GREGORIAN
BEGIN:VEVENT
DTSTART:20220712T210000Z
DTEND:20220712T213000Z
X-MICROSOFT-CDO-ALLDAYEVENT:FALSE
SUMMARY:Maynestreet Weight Loss\, LLC Ribbon Cutting Ceremony
DESCRIPTION:Join us in celebrating the Grand Opening of Maynestreet Weight Loss\, LLC!
X-ALT-DESC;FMTTYPE=text/html:<div style="text-align: center\;"><strong>Join us in celebrating the Grand Opening of Maynestreet Weight Loss\, LLC!</strong></div>\n
LOCATION:Maynestreet Weight Loss\, LLC 116 Main Street Deep River\, CT 06417
UID:e.1932.23717
SEQUENCE:3
DTSTAMP:20260421T033323Z
URL:https://business.middlesexchamber.com/events/details/maynestreet-weight-loss-llc-ribbon-cutting-ceremony-23717
END:VEVENT

END:VCALENDAR
