BEGIN:VCALENDAR
VERSION:2.0
PRODID:-//ChamberMaster//Event Calendar 2.0//EN
METHOD:PUBLISH
X-PUBLISHED-TTL:P3D
REFRESH-INTERVAL:P3D
CALSCALE:GREGORIAN
BEGIN:VEVENT
DTSTART:20171014T000000Z
DTEND:20171014T020000Z
X-MICROSOFT-CDO-ALLDAYEVENT:FALSE
SUMMARY:Mattabesset Strring Collective
DESCRIPTION:The Mattabesset String Collective is a five-piece string band featuring dobro\, mandolin\, fiddle\, guitar\, bass and sometimes banjo or cuatro. They play an eclectic mix of bluegrass\, blues\, country and rock\, all in a string band style.
X-ALT-DESC;FMTTYPE=text/html:The Mattabesset String Collective is a five-piece string band featuring dobro\, mandolin\, fiddle\, guitar\, bass and sometimes banjo or cuatro. They play an eclectic mix of bluegrass\, blues\, country and rock\, all in a string band style.
LOCATION:605 Main Street Middletown Ct The Buttonwood Tree
UID:e.1932.4722
SEQUENCE:3
DTSTAMP:20260423T232008Z
URL:https://business.middlesexchamber.com/events/details/mattabesset-strring-collective-4722
END:VEVENT

END:VCALENDAR
