BEGIN:VCALENDAR
VERSION:2.0
PRODID:-//ChamberMaster//Event Calendar 2.0//EN
METHOD:PUBLISH
X-PUBLISHED-TTL:P3D
REFRESH-INTERVAL:P3D
CALSCALE:GREGORIAN
BEGIN:VEVENT
DTSTART;VALUE=DATE:20210814
DTEND;VALUE=DATE:20210815
TRANSP:TRANSPARENT
X-MICROSOFT-CDO-ALLDAYEVENT:TRUE
SUMMARY:MARC Madness Kickball Tournament
DESCRIPTION:In 2019\, MARC Community Resources held its first MARC Madness Kickball Tournament. Eight teams comprised of 10-15 players raised a minimum of $1\,000 each to compete for the championship title. All levels of experience and competitive spirit are encouraged to participate.\n\n\n\nThe tournament will be designed for both players that are on a league and determined to bring home the trophy or just want to have some kickball fun and support a great cause.  The event will also include family-friendly activities for both the young and young at heart.\n\n\n\nThe proceeds benefit programs and services that are either unfunded or underfunded yet provide essential support to people with intellectual and developmental disabilities. Employment\, community residentials options and social experiences are the foundations for one to lead a happy\, healthy and fulfilling life.
X-ALT-DESC;FMTTYPE=text/html:In 2019\, MARC Community Resources held its first MARC Madness Kickball Tournament. Eight teams comprised of 10-15 players raised a minimum of $1\,000 each to compete for the championship title. All levels of experience and competitive spirit are encouraged to participate.<br />\n<br />\nThe tournament will be designed for both players that are on a league and determined to bring home the trophy or just want to have some kickball fun and support a great cause.&nbsp\; The event will also include family-friendly activities for both the young and young at heart.<br />\n<br />\nThe proceeds benefit programs and services that are either unfunded or underfunded yet provide essential support to people with intellectual and developmental disabilities. Employment\, community residentials options and social experiences are the foundations for one to lead a happy\, healthy and fulfilling life.
LOCATION:Glastonbury Elks Lodge 98 98 Woodland Street South Glastonbury\, CT 06073
UID:e.1932.21627
SEQUENCE:3
DTSTAMP:20260423T105222Z
URL:https://business.middlesexchamber.com/events/details/marc-madness-kickball-tournament-08-14-2021-21627
END:VEVENT

END:VCALENDAR
