BEGIN:VCALENDAR
VERSION:2.0
PRODID:-//ChamberMaster//Event Calendar 2.0//EN
METHOD:PUBLISH
X-PUBLISHED-TTL:P3D
REFRESH-INTERVAL:P3D
CALSCALE:GREGORIAN
BEGIN:VEVENT
DTSTART:20220214T223000Z
DTEND:20220214T233000Z
X-MICROSOFT-CDO-ALLDAYEVENT:FALSE
SUMMARY:Manifest Your Ideal Partner
DESCRIPTION:Dreading Valentine's Day this year because you're single?\n\n\n\nJoin Dr. Sara Frawley & Melissa from Willowbrook Health Center in an activity of understanding & attracting your ideal mate.\n\n\n\n$20 includes intuitive reading. Online/In Person. Purchase your tickets here: https://fb.me/e/25zwb5UbW
X-ALT-DESC;FMTTYPE=text/html:Dreading Valentine&#39\;s Day this year because you&#39\;re single?<br />\n<br />\nJoin Dr. Sara Frawley &amp\; Melissa from Willowbrook Health Center in an activity of understanding &amp\; attracting your ideal mate.<br />\n<br />\n$20 includes intuitive reading. Online/In Person. Purchase your tickets here: https://fb.me/e/25zwb5UbW
LOCATION:Willowbrook Health Center 4 Willowbrook Road. Cromwell Or Online
UID:e.1932.23556
SEQUENCE:3
DTSTAMP:20260423T094758Z
URL:https://business.middlesexchamber.com/events/details/manifest-your-ideal-partner-23556
END:VEVENT

END:VCALENDAR
