BEGIN:VCALENDAR
VERSION:2.0
PRODID:-//ChamberMaster//Event Calendar 2.0//EN
METHOD:PUBLISH
X-PUBLISHED-TTL:P3D
REFRESH-INTERVAL:P3D
CALSCALE:GREGORIAN
BEGIN:VEVENT
DTSTART:20221112T180000Z
DTEND:20221113T160000Z
X-MICROSOFT-CDO-ALLDAYEVENT:FALSE
SUMMARY:Mama Needs a Timeout
DESCRIPTION:It's a mom's getaway with your besties! Join us at the gorgeous Water's Edge Resort & Spa right on the ocean in Westbrook\, CT for a fantastic Fall getaway that you won't soon forget.\n\n\n\nCome for the afternoon to "sip and shop" at the Marketplace and Beverage Tasting\, or stay overnight and enjoy the complete package of dinner & live music\, comedy show\, PJ party/movie night and brunch the next day + 20% off at the Spa!\n\n\n\nWe've planned every detail for you. We guarantee lots of laughs and a memorable girls weekend. Visit www.mamastimeout.com for all the info and complete event schedule.
X-ALT-DESC;FMTTYPE=text/html:It&#39\;s a mom&#39\;s getaway with your besties! Join us at the gorgeous Water&#39\;s Edge Resort &amp\; Spa right on the ocean in Westbrook\, CT for a fantastic Fall getaway that you won&#39\;t soon forget.<br />\n<br />\nCome for the afternoon to &quot\;sip and shop&quot\; at the Marketplace and Beverage Tasting\, or stay overnight and enjoy the complete package of dinner &amp\; live music\, comedy show\, PJ party/movie night and brunch the next day + 20% off at the Spa!<br />\n<br />\nWe&#39\;ve planned every detail for you. We guarantee lots of laughs and a memorable girls weekend. Visit www.mamastimeout.com for all the info and complete event schedule.&nbsp\;
LOCATION:Water's Edge Resort & Spa 1525 Boston Post Road Westbrook\, CT 06498
UID:e.1932.23988
SEQUENCE:3
DTSTAMP:20260420T232530Z
URL:https://business.middlesexchamber.com/events/details/mama-needs-a-timeout-23988
END:VEVENT

END:VCALENDAR
