BEGIN:VCALENDAR
VERSION:2.0
PRODID:-//ChamberMaster//Event Calendar 2.0//EN
METHOD:PUBLISH
X-PUBLISHED-TTL:P3D
REFRESH-INTERVAL:P3D
CALSCALE:GREGORIAN
BEGIN:VEVENT
DTSTART:20260311T160000Z
DTEND:20260311T170000Z
X-MICROSOFT-CDO-ALLDAYEVENT:FALSE
SUMMARY:Lunch and Learn: Love.com
DESCRIPTION:Join Chelsea Groton Bank for an informative and engaging session focused on staying safe in today's digital world. As online dating platforms continue to grow\, so do the risks of scams\, fraud\, and identity theft.\n\n\n\nIn this workshop\, we'll walk you through common red flags\, techniques scammers use to build trust\, and practical steps you can take to protect your personal information.\n\n\n\nLet us help you understand who's a keeper and what phishes should be thrown back. \n\n\n\nRegister today!
X-ALT-DESC;FMTTYPE=text/html:<span style="font-size:18px\;"><span style="color: rgb(0\, 0\, 0)\; font-family: calibri\;">Join Chelsea Groton Bank for an informative and engaging session focused on staying safe in today&rsquo\;s digital world. As online dating platforms continue to grow\, so do the risks of scams\, fraud\, and identity theft.<br />\n<br />\nIn this workshop\, we&rsquo\;ll walk you through common red flags\, techniques scammers use to build trust\, and practical steps you can take to protect your personal information.<br />\n<br />\nLet us help you understand who&rsquo\;s a keeper and what phishes should be thrown back.&nbsp\;<br />\n<br />\n<strong><a href="https://cvent.me/30bxmR">Register today!</a></strong></span></span>
LOCATION:Chelsea Groton Bank Niantic Branch 21 Pennsylvania Avenue Niantic\, CT
UID:e.1932.34904
SEQUENCE:3
DTSTAMP:20260424T115608Z
URL:https://business.middlesexchamber.com/events/details/lunch-and-learn-love-com-03-11-2026-34904
END:VEVENT

END:VCALENDAR
