BEGIN:VCALENDAR
VERSION:2.0
PRODID:-//ChamberMaster//Event Calendar 2.0//EN
METHOD:PUBLISH
X-PUBLISHED-TTL:P3D
REFRESH-INTERVAL:P3D
CALSCALE:GREGORIAN
BEGIN:VEVENT
DTSTART:20230328T220000Z
DTEND:20230328T233000Z
X-MICROSOFT-CDO-ALLDAYEVENT:FALSE
SUMMARY:Love 146 Human Trafficking Training
DESCRIPTION:This training session is great for service providers\, parents/caregivers\, as well as community members who would like more information about Human Trafficking/Commercial Sexual Exploitation (HT/CSE).\n\n\n\nKristen will provide an overview of HT/CSE\, risk factors\, and indicators that will help you identify if a youth may be at risk or a potential victim. She will also discuss how to engage with children on this topic as well as guidance and tools to help keep children safe.\n\n\n\nInstructor :Kristen Stadalnik\, Survivor Care Training and Outreach Specialist\n\n\n\nAges: Parents/Caregivers\n\n\n\nRefreshments will be provided.
X-ALT-DESC;FMTTYPE=text/html:This training session is great for service providers\, parents/caregivers\, as well as community members who would like more information about Human Trafficking/Commercial Sexual Exploitation (HT/CSE).<br />\n<br />\nKristen will provide an overview of HT/CSE\, risk factors\, and indicators that will help you identify if a youth may be at risk or a potential victim. She will also discuss how to engage with children on this topic as well as guidance and tools to help keep children safe.<br />\n<br />\nInstructor :Kristen Stadalnik\, Survivor Care Training and Outreach Specialist<br />\n<br />\nAges: Parents/Caregivers<br />\n<br />\nRefreshments will be provided.
LOCATION:Cromwell Town Hall - Arch Room 41 West Street Cromwell
UID:e.1932.25201
SEQUENCE:3
DTSTAMP:20260420T164916Z
URL:https://business.middlesexchamber.com/events/details/love-146-human-trafficking-training-25201
END:VEVENT

END:VCALENDAR
