BEGIN:VCALENDAR
VERSION:2.0
PRODID:-//ChamberMaster//Event Calendar 2.0//EN
METHOD:PUBLISH
X-PUBLISHED-TTL:P3D
REFRESH-INTERVAL:P3D
CALSCALE:GREGORIAN
BEGIN:VEVENT
DTSTART:20230528T153000Z
DTEND:20230529T010000Z
X-MICROSOFT-CDO-ALLDAYEVENT:FALSE
SUMMARY:Lobster Mania at The Wharf
DESCRIPTION:All Things Lobster during our Lobster Mania Weekend!\n\n\nMenu Features to include: \n\nLobster Bisque \n\nLobster Roll (Hot or Cold) \n\nLobster Risotto \n\nMo's Special\, Lobster Thermidor \n\nSteamed New England Lobster Bake \n\nWhole Lobster\n\nClam Chowder\, Steamers\n\nCorn\,\n\nBoiled Red Potatoes\n\nClam Bake for 2 \n\nLobster Bloody Mary\n\n\n\nMenu Prices will apply for each item.\n\n\n\nReservations Recommended.\n\n\n\nMenu Subject to change
X-ALT-DESC;FMTTYPE=text/html:<div style="text-align: center\;"><strong>All Things Lobster during our Lobster Mania Weekend!</strong></div>\n<br />\nMenu Features to include:&nbsp\;<br />\nLobster Bisque&nbsp\;<br />\nLobster Roll (Hot or Cold)&nbsp\;<br />\nLobster Risotto&nbsp\;<br />\nMo&#39\;s Special\, Lobster Thermidor&nbsp\;<br />\nSteamed New England Lobster Bake&nbsp\;<br />\nWhole Lobster<br />\nClam Chowder\, Steamers<br />\nCorn\,<br />\nBoiled Red Potatoes<br />\nClam Bake for 2&nbsp\;<br />\nLobster Bloody Mary<br />\n<br />\nMenu Prices will apply for each item.<br />\n<br />\nReservations Recommended.<br />\n<br />\nMenu Subject to change
LOCATION:The Wharf\, Madison Beach Hotel 94 W Wharf Road Madison\, CT 06443
UID:e.1932.25426
SEQUENCE:3
DTSTAMP:20260420T153117Z
URL:https://business.middlesexchamber.com/events/details/lobster-mania-at-the-wharf-05-28-2023-25426
END:VEVENT

END:VCALENDAR
