BEGIN:VCALENDAR
VERSION:2.0
PRODID:-//ChamberMaster//Event Calendar 2.0//EN
METHOD:PUBLISH
X-PUBLISHED-TTL:P3D
REFRESH-INTERVAL:P3D
CALSCALE:GREGORIAN
BEGIN:VEVENT
DTSTART:20210812T190000Z
DTEND:20210812T220000Z
X-MICROSOFT-CDO-ALLDAYEVENT:FALSE
SUMMARY:**LIVE ONLINE** Effective Communications & Human Relations July 15 Kick off
DESCRIPTION:Dale Carnegie Effective Communications and Human Relations : Live Online\n\nKick Off  July 15th\, Thursday | 3:00pm-5:00pm\n\nSession 1 July 22nd | 3:00pm-6:00pm Thursday evenings once a week \n\n\n\nWhy do you want to register? You'll be better equipped to perform as an influential communicator\, problem-solver and focused leader. You'll learn to strengthen interpersonal relationships\, manage stress and handle fast-changing workplace conditions. And you'll develop a take-charge attitude initiated with confidence and enthusiasm. \n\n\nQuestions?  just call us at 860-232-6000  or michael.francoeur@dalecarnegie.com
X-ALT-DESC;FMTTYPE=text/html:<span style="font-size:14px"><span style="font-family:arial"><span style="color:rgb(0\, 0\, 0)">Dale Carnegie&nbsp\;<a href="https://www.dalecarnegie.com/en/courses/4846?franchise_id=186">Effective Communications and Human Relations : Live Online</a><br>\nKick Off&nbsp\; July 15th\, Thursday | 3:00pm-5:00pm<br>\nSession 1 July 22nd | 3:00pm-6:00pm Thursday evenings once a week&nbsp\;</span></span></span><br>\n<br>\n<span style="color:#0000FF"><span style="font-size:14px">Why do you want to register?</span></span>&nbsp\;<span style="color:rgb(26\, 26\, 38)\; font-family:work sans medium\; font-size:16.2px">You'll be better equipped to perform as an influential communicator\, problem-solver and focused leader. You'll learn to strengthen interpersonal relationships\, manage stress and handle fast-changing workplace conditions. And you'll develop a take-charge attitude initiated with confidence and enthusiasm.&nbsp\;</span>\n<div><br>\n<span style="font-size:14px"><span style="font-family:arial">Questions?&nbsp\; just call us at 860-232-6000&nbsp\; or michael.francoeur@dalecarnegie.com&nbsp\;</span></span>\n<div>&nbsp\;</div>\n<br>\n&nbsp\;</div>\n
LOCATION:Live Online
UID:e.1932.21727
SEQUENCE:3
DTSTAMP:20260423T105233Z
URL:https://business.middlesexchamber.com/events/details/live-online-effective-communications-human-relations-july-15-kick-off-08-12-2021-21727
END:VEVENT

END:VCALENDAR
