BEGIN:VCALENDAR
VERSION:2.0
PRODID:-//ChamberMaster//Event Calendar 2.0//EN
METHOD:PUBLISH
X-PUBLISHED-TTL:P3D
REFRESH-INTERVAL:P3D
CALSCALE:GREGORIAN
BEGIN:VEVENT
DTSTART:20230405T120000Z
DTEND:20230405T133000Z
X-MICROSOFT-CDO-ALLDAYEVENT:FALSE
SUMMARY:Legislative Leadership Series featuring Speaker of the House Matt Ritter
DESCRIPTION:At this special meeting\, Speaker Ritter will visit with chamber members to discuss the 2023 Regular Session of the Connecticut General Assembly.\n\n \n\nThe chamber's Board of Directors and Legislative Committee will have the opportunity to ask questions about the session\, and discuss some important issues on our 2023 Public Policy Agenda.\n\n \n\nYour presence at this meeting will make an impact\, and will be helpful as we continue to strengthen our relationship with legislative leadership.\n\n\n\nA hot breakfast is included with registration.
X-ALT-DESC;FMTTYPE=text/html:<p>At this special meeting\, Speaker Ritter will visit with chamber members to discuss the 2023&nbsp\;Regular Session of the Connecticut General Assembly.<br />\n&nbsp\;<br />\nThe chamber&#39\;s Board of Directors and Legislative Committee will have the opportunity to ask questions about the session\, and discuss some important issues on our 2023 Public Policy Agenda.<br />\n&nbsp\;<br />\nYour presence at this meeting will make an impact\, and will be helpful as we continue to strengthen our relationship with legislative leadership.<br />\n<br />\n<em>A hot breakfast is included with registration</em>.</p>\n
LOCATION:Inn at Middletown 70 Main Street Middletown\, CT
UID:e.1932.24760
SEQUENCE:3
DTSTAMP:20260420T195141Z
URL:https://business.middlesexchamber.com/events/details/legislative-leadership-series-featuring-speaker-of-the-house-matt-ritter-04-05-2023-24760
END:VEVENT

END:VCALENDAR
