BEGIN:VCALENDAR
VERSION:2.0
PRODID:-//ChamberMaster//Event Calendar 2.0//EN
METHOD:PUBLISH
X-PUBLISHED-TTL:P3D
REFRESH-INTERVAL:P3D
CALSCALE:GREGORIAN
BEGIN:VEVENT
DTSTART:20230417T120000Z
DTEND:20230417T130000Z
X-MICROSOFT-CDO-ALLDAYEVENT:FALSE
SUMMARY:Legislative Leadership Series Event ft. House Republican Leader Vincent Candelora
DESCRIPTION:At this special meeting\, Rep. Candelora will visit with chamber members to discuss the 2023 Regular Session of the Connecticut General Assembly.\n\n \n\nThe chamber's Board of Directors and Legislative Committee will have the opportunity to ask questions about the session\, and discuss some important issues on our 2023 Public Policy Agenda.\n\n \n\nYour presence at this meeting will make an impact\, and will be helpful as we continue to strengthen our relationship with legislative leadership.
X-ALT-DESC;FMTTYPE=text/html:At this special meeting\, Rep. Candelora will visit with chamber members to discuss the 2023 Regular Session of the Connecticut General Assembly.<br />\n&nbsp\;<br />\nThe chamber&rsquo\;s Board of Directors and Legislative Committee will have the opportunity to ask questions about the session\, and discuss some important issues on our 2023 Public Policy Agenda.<br />\n&nbsp\;<br />\nYour presence at this meeting will make an impact\, and will be helpful as we continue to strengthen our relationship with legislative leadership.
LOCATION:Courtyard by Marriott 4 Sebethe Drive Cromwell\, CT
UID:e.1932.24762
SEQUENCE:3
DTSTAMP:20260420T192728Z
URL:https://business.middlesexchamber.com/events/details/legislative-leadership-series-event-ft-house-republican-leader-vincent-candelora-24762
END:VEVENT

END:VCALENDAR
