BEGIN:VCALENDAR
VERSION:2.0
PRODID:-//ChamberMaster//Event Calendar 2.0//EN
METHOD:PUBLISH
X-PUBLISHED-TTL:P3D
REFRESH-INTERVAL:P3D
CALSCALE:GREGORIAN
BEGIN:VEVENT
DTSTART:20251031T120000Z
DTEND:20251031T130000Z
X-MICROSOFT-CDO-ALLDAYEVENT:FALSE
SUMMARY:Legislative Committee
DESCRIPTION:The Legislative Committee works hard as the chamber's voice on important public policy issues in the State of Connecticut.  The committee is responsible for creating the chamber's Public Policy Agenda on a yearly basis\, and hosts major legislative events every year. These include: the Legislative Breakfast with the Middlesex County legislative delegation\, and four leadership events featuring leaders from each of the legislative caucuses in Hartford. The Legislative Committee will continue to pursue legislation that encourages Connecticut businesses to invest and grow opportunities for good\, well-paying jobs.\n\n \n\nMeetings occur on the third Friday of the month at 8:00 a.m.\, at the Chamber\, or you may join via Zoom. This committee is a closed committee. If you would like more information on how you can get involved please contact Sara Mendillo at sara@middlesexchamber.com
X-ALT-DESC;FMTTYPE=text/html:The Legislative Committee works hard as the chamber&rsquo\;s voice on important public policy issues in the State of Connecticut.&nbsp\; The committee is responsible for creating the chamber&rsquo\;s Public Policy Agenda on a yearly basis\, and hosts major legislative events every year. These include: the Legislative Breakfast with the Middlesex County legislative delegation\, and four leadership events featuring leaders from each of the legislative caucuses in Hartford. The Legislative Committee will continue to pursue legislation that encourages Connecticut businesses to invest and grow opportunities for good\, well-paying jobs.<br />\n&nbsp\;<br />\nMeetings occur on the third Friday of the month at 8:00 a.m.\, at the Chamber\, or you may join via Zoom. This committee is a closed committee. If you would like more information on how you can get involved please contact Sara Mendillo at <a href="mailto:sara@middlesexchamber.com">sara@middlesexchamber.com</a>
LOCATION:Held via Zoom
UID:e.1932.30444
SEQUENCE:3
DTSTAMP:20260424T212806Z
URL:https://business.middlesexchamber.com/events/details/legislative-committee-10-17-2025-30444
END:VEVENT

END:VCALENDAR
