BEGIN:VCALENDAR
VERSION:2.0
PRODID:-//ChamberMaster//Event Calendar 2.0//EN
METHOD:PUBLISH
X-PUBLISHED-TTL:P3D
REFRESH-INTERVAL:P3D
CALSCALE:GREGORIAN
BEGIN:VEVENT
DTSTART:20211118T130000Z
DTEND:20211118T140000Z
X-MICROSOFT-CDO-ALLDAYEVENT:FALSE
SUMMARY:Killingworth Division
DESCRIPTION:Join us for both open and themed discussions\, connecting our strong network of professionals. Open to all!\n\n\n\nWe will be LIVE for this meeting.  It  will be at the Emergency Operations Center.\n\n\nThank you to Eileen Unger-Pleines - The Bread Girl for our wonderful treats in the morning!
X-ALT-DESC;FMTTYPE=text/html:<span style="font-family:arial\;">Join us for both open and themed discussions\, connecting our strong network of professionals. Open to all!<br />\n<br />\n<span style="font-size:11.0pt\;"><span style="font-size:18px\;"><strong>We will be LIVE for this meeting.&nbsp\; It&nbsp\; will be at the Emergency Operations Center.</strong></span></span></span>\n<div style="text-align: center\;"><br />\n<span style="font-family:arial\;"><span style="font-size:16px\;"><strong>Thank you to Eileen Unger-Pleines - The Bread Girl for our wonderful treats in the morning!</strong></span></span></div>\n
LOCATION:Emergency Operations Center. Same parking lot at the Town Hall
UID:e.1932.19450
SEQUENCE:3
DTSTAMP:20260423T082421Z
URL:https://business.middlesexchamber.com/events/details/killingworth-division-11-18-2021-19450
END:VEVENT

END:VCALENDAR
