BEGIN:VCALENDAR
VERSION:2.0
PRODID:-//ChamberMaster//Event Calendar 2.0//EN
METHOD:PUBLISH
X-PUBLISHED-TTL:P3D
REFRESH-INTERVAL:P3D
CALSCALE:GREGORIAN
BEGIN:VEVENT
DTSTART:20201015T120000Z
DTEND:20201015T130000Z
X-MICROSOFT-CDO-ALLDAYEVENT:FALSE
SUMMARY:Killingworth Division
DESCRIPTION:Candidate Forums\n\n\n\nHello Killingworth !\n\n \n\nI am writing today to invite you to participate in the Middlesex County Chamber of Commerce Division Candidate Forums that will be held throughout the month of October. As you know\, the chamber?s divisions are spread out throughout Middlesex County. They almost function as sub-chambers and focus on issues of importance to the local business community in those member towns. This year\, due to COVID-19\, these forums are being held through zoom.\n\n \n\nThese are not debates\, but forums that are designed to connect the candidates to the business community in Middlesex County. Candidates will have the opportunity to introduce themselves and talk about their campaign. We usually limit this portion of the meeting to 3-5 minutes depending on how many candidates attend. The chamber members in the virtual audience will then have the opportunity to ask questions of the candidates about important business issues or anything else they deem relevant. All candidates for Senate and House seats that represent these towns are invited to attend.\n\n\n\nThe Following Candidates Have Been Invited\n\n\n\nState Senate\n\nDistrict 12:  Branford\, Durham\, Guilford\, Killingworth\, Madison\, North Branford\n\n\n	 Christine Cohen - Democrat - Incumbent\n	Joseph LaPorta - Republican - Candidate\n\nHouse of Representatives\n\nDistrict 35:  Clinton\, Killingworth\, Westbrook\n\n\n	Christine Goupil - Democrat - Candidate\n	John Hall - Republican - Candidate\n	John May - Green - Candidate\n\n\n\nPlease join us for a meeting of the Chambers Killingworth Division on October 15\, 2020 at 8:00 a.m.\n\nPlease register above\n\n\n\nWe are really hoping to have a strong turnout of chamber members for these important forums. Let us know if you have any questions or concerns.\n\n\n\nThank you.
X-ALT-DESC;FMTTYPE=text/html:<p style="color: rgb(51\, 51\, 51)\; font-family: sans-serif\, Arial\, Verdana\, &quot\;Trebuchet MS&quot\;\; font-size: 13px\;"><span font-size:="" style="box-sizing: border-box\; font-weight: bolder\; background-color: rgb(243\, 243\, 243)\;" trebuchet=""><em style="box-sizing: border-box\;"><span style="box-sizing: border-box\; background: white\;"><span style="box-sizing: border-box\; font-family: arial\, sans-serif\;"><span style="box-sizing: border-box\; font-size: 15pt\;">Candidate Forums</span></span></span></em></span><br font-size:="" style="box-sizing: border-box\; background-color: rgb(243\, 243\, 243)\;" trebuchet="" />\n<br font-size:="" style="box-sizing: border-box\; background-color: rgb(243\, 243\, 243)\;" trebuchet="" />\n<span font-size:="" style="box-sizing: border-box\; outline: 0px\;" trebuchet=""><span style="box-sizing: border-box\; outline: 0px\; font-family: arial\, sans-serif\;"><span style="box-sizing: border-box\; outline: 0px\; font-size: 10pt\;"><span style="background-color: rgb(255\, 255\, 255)\;">Hello Killingworth !</span><br style="box-sizing: border-box\;" />\n<span style="background-color: rgb(243\, 243\, 243)\;">&nbsp\;</span><br style="box-sizing: border-box\;" />\n<span style="background: white\; box-sizing: border-box\; outline: 0px\;">I am writing today to invite you to participate in the Middlesex County Chamber of Commerce Division Candidate Forums that will be held throughout the month of October. As you know\, the chamber?s divisions are spread out throughout Middlesex County. They almost function as sub-chambers and focus on issues of importance to the local business community in those member towns. This year\, due to COVID-19\, these forums are being held through zoom.</span><br style="box-sizing: border-box\;" />\n<span style="background-color: rgb(243\, 243\, 243)\;">&nbsp\;</span><br style="box-sizing: border-box\;" />\n<span style="background: white\; box-sizing: border-box\;">These are not debates\, but forums that are designed to connect the candidates to the business community in Middlesex County. Candidates will have the opportunity to introduce themselves and talk about their campaign. We usually limit this portion of the meeting to 3-5 minutes depending on how many candidates attend. The chamber members in the virtual audience will then have the opportunity to ask questions of the candidates about important business issues or anything else they deem relevant. All candidates for Senate and House seats that represent these towns are invited to attend.<br />\n<br />\n<u><strong><span style="font-size: 16px\;">The Following Candidates Have Been Invited<br />\n<br />\n<span style="font-size: 14px\;">State Senate<br />\nDistrict 12:&nbsp\; Branford\, Durham\, Guilford\, Killingworth\, Madison\, North Branford</span></span></strong></u></span></span></span></span></p>\n\n<ul style="padding: 0px 40px\; color: rgb(51\, 51\, 51)\; font-family: sans-serif\, Arial\, Verdana\, &quot\;Trebuchet MS&quot\;\; font-size: 13px\;">\n	<li><span style="background: white\; box-sizing: border-box\;"><span style="font-size: 16px\;"><span style="font-size: 14px\;">&nbsp\;Christine Cohen - Democrat - Incumbent</span></span></span></li>\n	<li><span style="background: white\; box-sizing: border-box\;"><span style="font-size: 16px\;"><span style="font-size: 14px\;">Joseph LaPorta - Republican - Candidate</span></span></span></li>\n</ul>\n<u style="color: rgb(51\, 51\, 51)\; font-family: sans-serif\, Arial\, Verdana\, &quot\;Trebuchet MS&quot\;\; font-size: 13px\;"><strong><span style="background: white\; box-sizing: border-box\;"><span style="font-size: 16px\;"><span style="font-size: 14px\;">House of Representatives<br />\nDistrict 35:&nbsp\; Clinton\, Killingworth\, Westbrook</span></span></span></strong></u>\n\n<ul style="padding: 0px 40px\; color: rgb(51\, 51\, 51)\; font-family: sans-serif\, Arial\, Verdana\, &quot\;Trebuchet MS&quot\;\; font-size: 13px\;">\n	<li><span style="background: white\; box-sizing: border-box\;"><span style="font-size: 16px\;"><span style="font-size: 14px\;">Christine Goupil - Democrat - Candidate</span></span></span></li>\n	<li><span style="background: white\; box-sizing: border-box\;"><span style="font-size: 16px\;"><span style="font-size: 14px\;">John Hall - Republican - Candidate</span></span></span></li>\n	<li><span style="background: white\; box-sizing: border-box\;"><span style="font-size: 16px\;"><span style="font-size: 14px\;">John May - Green - Candidate</span></span></span></li>\n</ul>\n<br style="color: rgb(51\, 51\, 51)\; font-family: sans-serif\, Arial\, Verdana\, &quot\;Trebuchet MS&quot\;\; font-size: 13px\;" />\n<span font-size:="" style="color: rgb(51\, 51\, 51)\; font-family: sans-serif\, Arial\, Verdana\, &quot\;Trebuchet MS&quot\;\; font-size: 13px\; box-sizing: border-box\; outline: 0px\;" trebuchet=""><span style="box-sizing: border-box\; outline: 0px\; font-family: arial\, sans-serif\;"><span style="box-sizing: border-box\; outline: 0px\; font-size: 10pt\;"><span style="background: white\; box-sizing: border-box\;">Please join us for a meeting of the Chambers Killingworth Division on October 15\, 2020 at 8:00 a.m.</span></span></span></span>\n\n<p style="color: rgb(51\, 51\, 51)\; font-family: sans-serif\, Arial\, Verdana\, &quot\;Trebuchet MS&quot\;\; font-size: 13px\;"><span font-size:="" style="box-sizing: border-box\; outline: 0px\;" trebuchet=""><span style="box-sizing: border-box\; outline: 0px\; font-family: arial\, sans-serif\;"><span style="box-sizing: border-box\; outline: 0px\; font-size: 10pt\;"><span style="background-color: rgb(243\, 243\, 243)\;">Please register above</span><br style="box-sizing: border-box\;" />\n<br style="box-sizing: border-box\;" />\n<span style="background: white\; box-sizing: border-box\;">We are really hoping to have a strong turnout of chamber members for these important forums. Let us&nbsp\;know if you have any questions or concerns.<br />\n<br />\nThank you.</span></span></span></span><br style="box-sizing: border-box\;" />\n&nbsp\;</p>\n
LOCATION:Meeting will be conducted via Zoom. Dial in via phone or join with your computer.
UID:e.1932.19437
SEQUENCE:3
DTSTAMP:20260421T033156Z
URL:https://business.middlesexchamber.com/events/details/killingworth-division-10-15-2020-19437
END:VEVENT

END:VCALENDAR
