BEGIN:VCALENDAR
VERSION:2.0
PRODID:-//ChamberMaster//Event Calendar 2.0//EN
METHOD:PUBLISH
X-PUBLISHED-TTL:P3D
REFRESH-INTERVAL:P3D
CALSCALE:GREGORIAN
BEGIN:VEVENT
DTSTART:20200714T123000Z
DTEND:20200714T143000Z
X-MICROSOFT-CDO-ALLDAYEVENT:FALSE
SUMMARY:KeyBank Workshop Series "Sexual Harassment Prevention Training"
DESCRIPTION:Sexual Harassment Prevention Training\n\npresented by: Jackson Lewis \n\n\n\nThe definition of sexual harassment\, liability (your own and your organization's)\, and the prevention of sexual harassment in the workplace will be discussed. Attorneys from the law firm Jackson Lewis\, LLP will show you how to limit your company's exposure to charges of sexual harassment.\n\n\n\nThis session meets the State of Connecticut's requirement for two hours of sexual harassment prevention training for supervisors and managers. \n\n\n\nTwo hours mandatory attendance is required to receive certificate. \n\n \n\nYou will be billed if cancellations are not made 2 business days prior to the event.
X-ALT-DESC;FMTTYPE=text/html:<br />\n<strong><span style="color: rgb(34\, 34\, 34)\;"><span style="font-family: arial\, sans-serif\;"><span style="font-size: 12pt\;">Sexual Harassment Prevention Training</span></span></span></strong><br />\n<em><span style="color: rgb(34\, 34\, 34)\;"><span style="font-family: arial\, sans-serif\;"><span style="font-size: 12pt\;">presented by: Jackson Lewis&nbsp\;</span></span></span></em><br />\n<br />\n<span style="color: black\;"><span style="font-family: arial\, sans-serif\;"><span style="font-size: 10.5pt\;">The definition of sexual harassment\, liability (your own and your&nbsp\;organization&#39\;s)\, and the prevention of sexual harassment in the workplace will&nbsp\;be discussed. Attorneys from the law firm&nbsp\;<strong>Jackson Lewis\, LLP</strong>&nbsp\;will show you how to limit your company&#39\;s exposure to charges of sexual harassment.</span></span></span><br />\n<br />\n<strong><span style="color: black\;"><span style="font-family: arial\, sans-serif\;"><span style="font-size: 10.5pt\;">This session meets the State of Connecticut&#39\;s requirement for two hours of&nbsp\;sexual&nbsp\;harassment prevention training for supervisors and managers.</span></span></span></strong>&nbsp\;<br />\n<br />\n<strong><span style="color: black\;"><span style="font-family: arial\, sans-serif\;"><span style="font-size: 10.5pt\;">Two hours mandatory attendance is required to receive certificate.&nbsp\;</span></span></span></strong><br />\n<strong><span style="color:black\;"><span style="font-family:arial\,sans-serif\;"><span style="font-size:10.5pt\;">&#8203\;</span></span></span></strong><br />\n<em><span style="border:none windowtext 1.0pt\;padding:0in\;"><span style="color:#444444\;"><span style="font-family:arial\,sans-serif\;"><span style="font-size:10.5pt\;">You will be billed if&nbsp\;cancellations&nbsp\;are not made 2 business days prior to the event.</span></span></span></span></em>
LOCATION:via zoom
UID:e.1932.17247
SEQUENCE:3
DTSTAMP:20260425T225009Z
URL:https://business.middlesexchamber.com/events/details/keybank-workshop-series-sexual-harassment-prevention-training-07-14-2020-17247
END:VEVENT

END:VCALENDAR
