BEGIN:VCALENDAR
VERSION:2.0
PRODID:-//ChamberMaster//Event Calendar 2.0//EN
METHOD:PUBLISH
X-PUBLISHED-TTL:P3D
REFRESH-INTERVAL:P3D
CALSCALE:GREGORIAN
BEGIN:VEVENT
DTSTART:20201020T120000Z
DTEND:20201020T140000Z
X-MICROSOFT-CDO-ALLDAYEVENT:FALSE
SUMMARY:KeyBank Workshop Series "Keeping Cool During Covid"
DESCRIPTION:"Keeping Cool During Covid"\n\npresented by: Courtney Spencer\, Courtney Spencer Coaching\nRight now there is so much uncertainty in the world.  Routines have changed\, expectations have changed and people are struggling to deal with this "new normal".  Courtney will be discussing the impact of stress on the brain\, body and productivity and will be teaching ways to both manage the stress and improve your work and your life despite the craziness of the world around you.  You get to design a life that you love and in this seminar you will learn tools to begin that process.  You will leave with a "toolkit" that you can implement immediately in your own life. \n\n\n\nAbout Courtney:\n\nCourtney is an attorney\, transformational life coach and speaker and her passion is to help people conquer overwhelm and design a life that they love.  She is a frequent speaker on topics such as productivity\, stress reduction\, breaking through barriers\, life design and conquering busyness.  She utilizes the skills that she has honed through twenty years of practicing law as well as through her extensive coach training to help her clients make massive breakthroughs in their lives.  Courtney is constantly researching new techniques to bring to her coaching.   She can be reached at courtneypspeaks@gmail.com or you can schedule a free coaching session at courtneyspencercoachiig.com.
X-ALT-DESC;FMTTYPE=text/html:<p><strong><span style="font-size:14px\;"><span style="color:#333333\;"><span style="font-family:arial\;"><span style="font-size:18px\;">&quot\;Keeping Cool During Covid&quot\;</span></span></span></span></strong><br />\n<span style="font-family: arial\; font-size: 14px\;">presented by: Courtney Spencer\, Courtney Spencer Coaching</span></p>\n<span style="font-size:14px\;"><span style="color:#333333\;"><span style="font-family:arial\;">Right now there is so much uncertainty in the world.&nbsp\; Routines have changed\, expectations have changed and people are struggling to deal with this &ldquo\;new normal&rdquo\;.&nbsp\; Courtney will be discussing the impact of stress on the brain\, body and productivity and will be teaching ways to both manage the stress and improve your work and your life despite the craziness of the world around you.&nbsp\; You get to design a life that you love and in this seminar you will learn tools to begin that process.&nbsp\; You will leave with a &quot\;toolkit&quot\; that you can implement immediately in your own life.&nbsp\;<br />\n<br />\nAbout Courtney:</span><br />\n<span style="font-family:arial\;">Courtney is an attorney\, transformational life coach and speaker and her passion is to help people conquer overwhelm and design a life that they love.&nbsp\; She is a frequent speaker on topics such as productivity\, stress reduction\, breaking through barriers\, life design and conquering busyness.&nbsp\; She utilizes the skills that she has honed through twenty years of practicing law as well as through her extensive coach training to help her clients make massive breakthroughs in their lives.&nbsp\; Courtney is constantly researching new techniques to bring to her coaching.&nbsp\;&nbsp\; She can be reached at courtneypspeaks@gmail.com or you can schedule a free coaching session at courtneyspencercoachiig.com.</span></span></span>
LOCATION:Zoom
UID:e.1932.19530
SEQUENCE:3
DTSTAMP:20260421T033536Z
URL:https://business.middlesexchamber.com/events/details/keybank-workshop-series-keeping-cool-during-covid-19530
END:VEVENT

END:VCALENDAR
