BEGIN:VCALENDAR
VERSION:2.0
PRODID:-//ChamberMaster//Event Calendar 2.0//EN
METHOD:PUBLISH
X-PUBLISHED-TTL:P3D
REFRESH-INTERVAL:P3D
CALSCALE:GREGORIAN
BEGIN:VEVENT
DTSTART:20201110T140000Z
DTEND:20201110T150000Z
X-MICROSOFT-CDO-ALLDAYEVENT:FALSE
SUMMARY:KeyBank Workshop Series "It's Not Just a Logo: The Basics of Branding"
DESCRIPTION:It's Not Just a Logo: The Basics of Branding\n\npresented by: Logan Galla\, Design Lead\, Julia Balfour\, LLC\n\n\n\nGreat branding is the tool that differentiates a business from its competitors and helps it stand out with its audience\, but so few of us truly understand what it is. \n\n\n\nJoin us as we discuss where branding came from\, what it means today and why it's much more than just a logo.\n\n\n\nAbout Logan Galla\, Design Lead\n\nWith years of experience and plenty of awards and recognitions from institutions such as HOW and W3 under his belt\, Logan heads the design department at Julia Balfour. He's also served as a board member of the Connecticut Art Directors Club since 2015\, and took on the role of president in 2019.
X-ALT-DESC;FMTTYPE=text/html:<p><br />\nIt&#39\;s Not Just a Logo: The Basics of Branding<br />\npresented by: Logan Galla\, Design Lead\, Julia Balfour\, LLC<br />\n<br />\nGreat branding is the tool that differentiates a business from its competitors and helps it stand out with its audience\, but so few of us truly understand what it is.&nbsp\;<br />\n<br />\nJoin us as we discuss where branding came from\, what it means today and why it&#39\;s much more than just a logo.<br />\n<br />\n<strong>About Logan Galla\,&nbsp\;Design Lead</strong><br />\nWith years of experience and plenty of awards and recognitions from institutions such as HOW and W3 under his belt\, Logan heads the design department at Julia Balfour. He&#39\;s also served as a board member of the Connecticut Art Directors Club since 2015\, and took on the role of president in 2019.</p>\n
LOCATION:via Zoom
UID:e.1932.19584
SEQUENCE:3
DTSTAMP:20260421T044633Z
URL:https://business.middlesexchamber.com/events/details/keybank-workshop-series-it-s-not-just-a-logo-the-basics-of-branding-19584
END:VEVENT

END:VCALENDAR
