BEGIN:VCALENDAR
VERSION:2.0
PRODID:-//ChamberMaster//Event Calendar 2.0//EN
METHOD:PUBLISH
X-PUBLISHED-TTL:P3D
REFRESH-INTERVAL:P3D
CALSCALE:GREGORIAN
BEGIN:VEVENT
DTSTART:20171114T130000Z
DTEND:20171114T150000Z
X-MICROSOFT-CDO-ALLDAYEVENT:FALSE
SUMMARY:KeyBank Workshop Series "Conflict Management"
DESCRIPTION:CONFLICT MANAGEMENT\n\npresented by Pullman & Comley\, LLC\n\n \nConflict management is the process of resolving a conflict or dispute by identifying and satisfying some or all of each side's needs and addressing their interests. Knowing how to manage and resolve conflict is essential for leading an organization\, managing a department\, building and enhancing your interpersonal relations within your workplace\, your family and community.  Those who embrace conflict can build understanding and better relationships and experience greater personal and professional success. But managing conflict is not easy. In this workshop\, you'll discover your own emotional triggers and learn how to manage difficult encounters with diplomacy\, tact\, and credibility.\n\n\n\nYou will be billed if cancelations are not made two business days prior to the event.
X-ALT-DESC;FMTTYPE=text/html:<div style="text-align: center\;"><br />\n<span style="font-size:14px\;"><span style="font-family:arial\;"><span style="letter-spacing:0.15pt\;background-image:initial\;background-position:initial\;background-size:initial\;background-repeat:initial\;background-attachment:initial\;background-origin:initial\;background-clip:initial\;"><span style="color:#3e3834\;"><strong><span style="font-size:22px\;">CONFLICT MANAGEMENT</span></strong><br />\npresented by Pullman &amp\; Comley\, LLC<br />\n&#8203\;</span></span></span></span></div>\n<span style="font-size:14px\;"><span style="font-family:arial\;"><span style="letter-spacing:0.15pt\;background-image:initial\;background-position:initial\;background-size:initial\;background-repeat:initial\;background-attachment:initial\;background-origin:initial\;background-clip:initial\;"><span style="color:#3e3834\;">Conflict management is the process of resolving a conflict or dispute by identifying and satisfying some or all of each side&rsquo\;s needs and addressing their interests. Knowing how to manage and resolve conflict is essential for leading an organization\, managing a department\, building and enhancing your interpersonal relations within your workplace\, your family and community.</span></span>&nbsp\; <span style="background-image:initial\;background-position:initial\;background-size:initial\;background-repeat:initial\;background-attachment:initial\;background-origin:initial\;background-clip:initial\;"><span style="color:#363636\;">Those who embrace conflict can build understanding and better relationships and experience greater personal and professional success. But managing conflict is not easy. In this workshop\, you&#39\;ll discover your own emotional triggers and learn how to manage difficult encounters with diplomacy\, tact\, and credibility.</span></span><br />\n<br />\n<em style="box-sizing: content-box\; bottom: auto\; clear: none\; color: rgb(68\, 68\, 68)\; content: normal\; direction: inherit\; display: inline\; empty-cells: show\; float: none\; font-variant-numeric: inherit\; font-stretch: inherit\; font-size: 14px\; font-family: Arial\, Helvetica\, sans-serif\; left: auto\; line-height: 18.2px\; margin: 0px\; max-height: none\; max-width: none\; min-height: initial\; min-width: initial\; opacity: 1\; outline-offset: 0px\; overflow: visible\; padding: 0px\; position: static\; resize: none\; right: auto\; table-layout: auto\; text-align: center\; text-overflow: clip\; top: auto\; vertical-align: baseline\; visibility: inherit\; word-break: inherit\; word-wrap: inherit\; z-index: auto\; background-image: none\; background-position: initial\; background-size: initial\; background-repeat: initial\; background-attachment: initial\; background-origin: initial\; background-clip: initial\; border: none\; border-collapse: separate\; border-radius: 0px\; height: auto\; width: auto\; box-shadow: none\;"><em style="box-sizing: content-box\; bottom: auto\; clear: none\; color: inherit\; content: normal\; direction: inherit\; display: inline\; empty-cells: show\; float: none\; font-variant: inherit\; font-weight: inherit\; font-stretch: inherit\; font-size: inherit\; font-family: inherit\; left: auto\; letter-spacing: inherit\; line-height: 20.8px\; margin: 0px\; max-height: none\; max-width: none\; min-height: initial\; min-width: initial\; opacity: 1\; outline-offset: 0px\; overflow: visible\; padding: 0px\; position: static\; resize: none\; right: auto\; table-layout: auto\; text-align: inherit\; text-indent: inherit\; text-overflow: clip\; text-transform: inherit\; top: auto\; vertical-align: baseline\; visibility: inherit\; white-space: inherit\; word-break: inherit\; word-spacing: inherit\; word-wrap: inherit\; z-index: auto\; background: none\; border: none\; border-collapse: separate\; border-radius: 0px\; height: auto\; width: auto\; box-shadow: none\;">You</em></em><em style="box-sizing: content-box\; bottom: auto\; clear: none\; color: rgb(68\, 68\, 68)\; content: normal\; direction: inherit\; display: inline\; empty-cells: show\; float: none\; font-variant-numeric: inherit\; font-stretch: inherit\; font-size: 14px\; font-family: Arial\, Helvetica\, sans-serif\; left: auto\; line-height: 18.2px\; margin: 0px\; max-height: none\; max-width: none\; min-height: initial\; min-width: initial\; opacity: 1\; outline-offset: 0px\; overflow: visible\; padding: 0px\; position: static\; resize: none\; right: auto\; table-layout: auto\; text-align: center\; text-overflow: clip\; top: auto\; vertical-align: baseline\; visibility: inherit\; word-break: inherit\; word-wrap: inherit\; z-index: auto\; background-image: none\; background-position: initial\; background-size: initial\; background-repeat: initial\; background-attachment: initial\; background-origin: initial\; background-clip: initial\; border: none\; border-collapse: separate\; border-radius: 0px\; height: auto\; width: auto\; box-shadow: none\;"><em style="box-sizing: content-box\; bottom: auto\; clear: none\; color: inherit\; content: normal\; direction: inherit\; display: inline\; empty-cells: show\; float: none\; font-variant: inherit\; font-weight: inherit\; font-stretch: inherit\; font-size: inherit\; font-family: inherit\; left: auto\; letter-spacing: inherit\; line-height: 20.8px\; margin: 0px\; max-height: none\; max-width: none\; min-height: initial\; min-width: initial\; opacity: 1\; outline-offset: 0px\; overflow: visible\; padding: 0px\; position: static\; resize: none\; right: auto\; table-layout: auto\; text-align: inherit\; text-indent: inherit\; text-overflow: clip\; text-transform: inherit\; top: auto\; vertical-align: baseline\; visibility: inherit\; white-space: inherit\; word-break: inherit\; word-spacing: inherit\; word-wrap: inherit\; z-index: auto\; background: none\; border: none\; border-collapse: separate\; border-radius: 0px\; height: auto\; width: auto\; box-shadow: none\;">&nbsp\;will be billed if&nbsp\;cancelations are not made two business days prior to the event.&nbsp\;</em></em></span></span>
LOCATION:Middlesex Chamber 393 Main Street Middletown\, CT
UID:e.1932.4475
SEQUENCE:3
DTSTAMP:20260425T024856Z
URL:https://business.middlesexchamber.com/events/details/keybank-workshop-series-conflict-management-4475
END:VEVENT

END:VCALENDAR
