BEGIN:VCALENDAR
VERSION:2.0
PRODID:-//ChamberMaster//Event Calendar 2.0//EN
METHOD:PUBLISH
X-PUBLISHED-TTL:P3D
REFRESH-INTERVAL:P3D
CALSCALE:GREGORIAN
BEGIN:VEVENT
DTSTART:20230521T113000Z
DTEND:20230521T193000Z
X-MICROSOFT-CDO-ALLDAYEVENT:FALSE
SUMMARY:JPII School Annual Golf Tournament
DESCRIPTION:The Saint John Paul II School HSA will host its 3rd Annual Golf Outing Sunday\, May 21st at Lyman Orchards Golf Club (Player Course).\n\n\n\nThe Golf Outing is a major fundraiser for the Home and School Association (HSA) and your contributions will directly support Saint John Paul II programs\, facilities and extracurricular activities.  Attention local businesses!!!\n\nA great opportunity to network and introduce your business to our community. \n\nThe HSA strives to supplement all the students at Saint John Paul II and enable them to have an all encompassing experience in and out of the classroom. Your support is essential to achieving that goal and greatly appreciated.\n\n\n\nThank you in advance for your consideration and GO LIONS!\n\n \n\nPlease contact a committee member for participation details. \n\nJohn Benitez\n\nGolf Outing Committee Chairperson\n\n203-927-4234\n\njabsocr17@yahoo.com\n\n\n\nNatalie Grant \n\n(617) 833-3879\n\nnatgrant@nhbre.com\n\n_____________________\n\nPRIZES: 1st place\, Longest Drive\, Closest to the pin\n\nCOST: $175 player / $700 foursome\n\nincludes: greens fees\, cart\, breakfast\, awards banquet\, gift bag
X-ALT-DESC;FMTTYPE=text/html:<p><span style="font-family:uictfonttextstylebody\; font-size:18.59px">The Saint John Paul II School HSA will host its 3rd Annual Golf Outing Sunday\, May 21st at Lyman Orchards Golf Club (Player Course).<br />\n<br />\nThe Golf Outing is a major fundraiser for the Home and School Association (HSA) and your contributions will directly support Saint John Paul II programs\, facilities and extracurricular activities.&nbsp\;&nbsp\;</span><span style="color: rgb(51\, 51\, 51)\; font-family: uictfonttextstylebody\; font-size: 18.59px\; background-color: rgb(255\, 255\, 255)\;">Attention local businesses!!!</span><br style="color: rgb(51\, 51\, 51)\; font-family: uictfonttextstylebody\; font-size: 18.59px\; background-color: rgb(255\, 255\, 255)\;" />\n<span style="color: rgb(51\, 51\, 51)\; font-family: uictfonttextstylebody\; font-size: 18.59px\; background-color: rgb(255\, 255\, 255)\;">A great opportunity to network and introduce your business to our community.&nbsp\;</span></p>\n\n<p><span style="font-family:uictfonttextstylebody\; font-size:18.59px">The HSA strives to supplement all the students at Saint John Paul II and enable them to have an all encompassing experience in and out of the classroom. Your support is essential to achieving that goal and greatly appreciated.<br />\n<br />\nThank you in advance for your consideration and GO LIONS!</span><br />\n&nbsp\;</p>\n\n<p><span style="font-family:uictfonttextstylebody\; font-size:18.59px">Please contact a committee member for participation details.&nbsp\;<br />\nJohn Benitez<br />\nGolf Outing Committee Chairperson<br />\n<a href="tel:(203)927-4234"><span style="font-size:18.59px">203-927-4234</span></a><br />\njabsocr17@yahoo.com<br />\n<br />\nNatalie Grant&nbsp\;<br />\n<span style="font-size:18.59px"><a href="tel:(617)%20833-3879">(617) 833-3879<br />\nnatgrant@nhbre.com</a></span></span></p>\n\n<p><span style="font-family:uictfonttextstylebody\; font-size:18.59px">_____________________</span></p>\n\n<p><span style="font-family:uictfonttextstylebody\; font-size:18.59px">PRIZES: 1st place\, Longest Drive\, Closest to the pin<br />\nCOST: $175 player / $700 foursome<br />\nincludes: greens fees\, cart\, breakfast\, awards banquet\, gift bag</span></p>\n
LOCATION:Lyman Orchards Golf Club (Player Course) 70 Lyman Road Middlefield\, CT
UID:e.1932.24793
SEQUENCE:3
DTSTAMP:20260420T153005Z
URL:https://business.middlesexchamber.com/events/details/jpii-school-annual-golf-tournament-24793
END:VEVENT

END:VCALENDAR
