BEGIN:VCALENDAR
VERSION:2.0
PRODID:-//ChamberMaster//Event Calendar 2.0//EN
METHOD:PUBLISH
X-PUBLISHED-TTL:P3D
REFRESH-INTERVAL:P3D
CALSCALE:GREGORIAN
BEGIN:VEVENT
DTSTART:20230402T153000Z
DTEND:20230402T200000Z
X-MICROSOFT-CDO-ALLDAYEVENT:FALSE
SUMMARY:Join Team Gilead for the Run for Every 1 Road Race
DESCRIPTION:Join Team Gilead and walk or run in the Middletown 5k/10k.  \n\n\n\nFor the past 9 years\, we've been bringing clients\, staff\, families and community members together through a shared dedication to Moving for Every 1 out of 5 individuals who have experienced a mental illness. \n\n\n\nIf you can't join us in-person\, join us virtually.  Share your selfies or videos of you moving in Team Gilead's t-shirt and be inspired with the everyday videos.\n\n\n\nFor more info and to register: https://gileadcs.org/news-events/road-race/#11
X-ALT-DESC;FMTTYPE=text/html:Join Team Gilead and walk or run in the Middletown 5k/10k. &nbsp\;<br />\n<br />\nFor the past 9 years\, we&rsquo\;ve been bringing clients\, staff\, families and community members together through a shared dedication to <strong><em>Moving for Every 1</em></strong> out of 5 individuals who have experienced a mental illness.&nbsp\;<br />\n<br />\nIf you can&rsquo\;t join us in-person\, join us virtually.&nbsp\; Share your selfies or videos of you moving in Team Gilead&rsquo\;s t-shirt and be inspired with the everyday videos.<br />\n<br />\nFor more info and to register: <a href="https://gileadcs.org/news-events/road-race/#11">https://gileadcs.org/news-events/road-race/#11</a>
LOCATION:Registration is at Union Park on lower Main Street - Across from Mondo Restaurant\, 10 Main Street
UID:e.1932.24836
SEQUENCE:3
DTSTAMP:20260420T153440Z
URL:https://business.middlesexchamber.com/events/details/join-team-gilead-for-the-run-for-every-1-road-race-24836
END:VEVENT

END:VCALENDAR
