BEGIN:VCALENDAR
VERSION:2.0
PRODID:-//ChamberMaster//Event Calendar 2.0//EN
METHOD:PUBLISH
X-PUBLISHED-TTL:P3D
REFRESH-INTERVAL:P3D
CALSCALE:GREGORIAN
BEGIN:VEVENT
DTSTART:20171119T190000Z
DTEND:20171119T200000Z
X-MICROSOFT-CDO-ALLDAYEVENT:FALSE
SUMMARY:John Basinger "Milton's Ninth"
DESCRIPTION:John Basinger performs a one-man rendition of John Milton's epic poem\, Paradise Lost. Books available to follow along. The Story of Adam and Eve in the Garden of Eden comes to life with John's enthusiastic and learned interpretation.
X-ALT-DESC;FMTTYPE=text/html:<br />\n<strong>John Basinger&nbsp\;</strong><span style="color: rgb(68\, 68\, 68)\; font-family: open sans\,sans-serif\; font-size: 15px\;">performs a one-man rendition of John Milton&rsquo\;s epic poem\, Paradise Lost. Books available to follow along. The Story of Adam and Eve in the Garden of Eden comes to life with John&rsquo\;s enthusiastic and learned interpretation.</span>
LOCATION:The Buttonwood Tree 605 Main Street Middletown\, CT
UID:e.1932.4835
SEQUENCE:3
DTSTAMP:20260422T225537Z
URL:https://business.middlesexchamber.com/events/details/john-basinger-milton-s-ninth-4835
END:VEVENT

END:VCALENDAR
