BEGIN:VCALENDAR
VERSION:2.0
PRODID:-//ChamberMaster//Event Calendar 2.0//EN
METHOD:PUBLISH
X-PUBLISHED-TTL:P3D
REFRESH-INTERVAL:P3D
CALSCALE:GREGORIAN
BEGIN:VEVENT
DTSTART:20220704T140000Z
DTEND:20220704T160000Z
X-MICROSOFT-CDO-ALLDAYEVENT:FALSE
SUMMARY:Ivoryton Village Alliance 4th of July Parade
DESCRIPTION:Celebrate the 4th of July in Ivoryton\, CT and enjoy a 4th of July Parade Celebration\, starting at 10 a.m.\n\n\n\nTo march in the parade\, please contact https://www.ivorytonalliance.org/contact.
X-ALT-DESC;FMTTYPE=text/html:Celebrate the 4th of July in Ivoryton\, CT and enjoy a 4th of July Parade Celebration\, starting at 10 a.m.<br />\n<br />\nTo march in the parade\, please contact https://www.ivorytonalliance.org/contact.
LOCATION:Main Street Ivoryton\, CT
UID:e.1932.23718
SEQUENCE:3
DTSTAMP:20260421T033759Z
URL:https://business.middlesexchamber.com/events/details/ivoryton-village-alliance-4th-of-july-parade-23718
END:VEVENT

END:VCALENDAR
