BEGIN:VCALENDAR
VERSION:2.0
PRODID:-//ChamberMaster//Event Calendar 2.0//EN
METHOD:PUBLISH
X-PUBLISHED-TTL:P3D
REFRESH-INTERVAL:P3D
CALSCALE:GREGORIAN
BEGIN:VEVENT
DTSTART:20220206T193000Z
DTEND:20220206T211500Z
X-MICROSOFT-CDO-ALLDAYEVENT:FALSE
SUMMARY:Intuitive Art
DESCRIPTION:Do you have a question you need answered from another level?\n\n\n\nHave you been thinking about changing something but do not know where to start?\n\n\n\nCome learn how to tap into your own intuition at this event. Several meditations are also provided to help you calm and ease your own mind.
X-ALT-DESC;FMTTYPE=text/html:Do you have a question you need answered from another level?<br />\n<br />\nHave you been thinking about changing something but do not know where to start?<br />\n<br />\nCome learn how to tap into your own intuition at this event. Several meditations are also provided to help you calm and ease your own mind.
LOCATION:Willowbrook Health Center 4 Willowbrook Road Cromwell\, CT
UID:e.1932.23557
SEQUENCE:3
DTSTAMP:20260423T105351Z
URL:https://business.middlesexchamber.com/events/details/intuitive-art-23557
END:VEVENT

END:VCALENDAR
