BEGIN:VCALENDAR
VERSION:2.0
PRODID:-//ChamberMaster//Event Calendar 2.0//EN
METHOD:PUBLISH
X-PUBLISHED-TTL:P3D
REFRESH-INTERVAL:P3D
CALSCALE:GREGORIAN
BEGIN:VEVENT
DTSTART:20201004T170000Z
DTEND:20201004T200000Z
X-MICROSOFT-CDO-ALLDAYEVENT:FALSE
SUMMARY:Introduction to Handcrafted Jewelry - An In Person Workshop
DESCRIPTION:Making handcrafted jewelry is one of the most popular pastimes. There is great satisfaction in designing a piece that is one of a kind. Learn the little secrets of creating a piece of jewelry that looks professional and remains intact.\n\n\n\nIn this workshop you will learn all the basics of stringing a bracelet or necklace. A list of bead choices you will need to bring to class will be sent after you register.  Tools are supplied by the gallery and instructor. \n\n\n\nLynn Sheft has been a jewelry designer and instructor for over 20 years. Her expertise includes wire work\, basic stringing including multiple strands\, kumihimo\, pearl knotting and chain maille.
X-ALT-DESC;FMTTYPE=text/html:<span style="background-color:rgb(255\, 255\, 255)\; color:rgb(34\, 34\, 34)\; font-family:carrois gothic\,sans-serif\; font-size:14px">Making handcrafted jewelry is one of the most popular pastimes. There is great satisfaction in designing a piece that is one of a kind. Learn the little secrets of creating a piece of jewelry that looks professional and remains intact.<br />\n<br />\nIn this workshop you will learn all the basics of stringing a bracelet or necklace. A list of bead choices you will need to bring to class will be sent after you register.&nbsp\; Tools are supplied by the gallery and instructor.&nbsp\;<br />\n<br />\nLynn Sheft has been a jewelry designer and instructor for over 20 years. Her expertise includes wire work\, basic stringing including multiple strands\, kumihimo\, pearl knotting and chain maille.</span>
LOCATION:Spectrum Art Gallery 61 Main Street Centerbrook\, CT 06409
UID:e.1932.19268
SEQUENCE:3
DTSTAMP:20260421T044611Z
URL:https://business.middlesexchamber.com/events/details/introduction-to-handcrafted-jewelry-an-in-person-workshop-19268
END:VEVENT

END:VCALENDAR
