BEGIN:VCALENDAR
VERSION:2.0
PRODID:-//ChamberMaster//Event Calendar 2.0//EN
METHOD:PUBLISH
X-PUBLISHED-TTL:P3D
REFRESH-INTERVAL:P3D
CALSCALE:GREGORIAN
BEGIN:VEVENT
DTSTART:20230418T120000Z
DTEND:20230418T130000Z
X-MICROSOFT-CDO-ALLDAYEVENT:FALSE
SUMMARY:Human Resource Council Steering Committee
DESCRIPTION:The Human Resource Council provides an opportunity for HR Professionals to discuss employment related topics\, exchange ideas with their peers and receive professional development and training.  The council is in charge of creating engaging events\, informational workshops and addressing recent legislative changes/requirements. Some of the topics for discussion include recruiting\, termination policies and employee incentive and retention programs.\n\n \n\nThis committee is a closed committee. If you would like more information on how you can get involved please contact Sara Mendillo.
X-ALT-DESC;FMTTYPE=text/html:The Human Resource Council provides an opportunity for HR Professionals to discuss employment related topics\, exchange ideas with their peers and receive professional development and training.&nbsp\; The council is in charge of creating engaging events\, informational workshops and addressing recent legislative changes/requirements. Some of the topics for discussion include recruiting\, termination policies and employee incentive and retention programs.<br />\n&nbsp\;<br />\nThis committee is a closed committee. If you would like more information on how you can get involved please contact Sara Mendillo.
LOCATION:Meeting held via Zoom
UID:e.1932.24654
SEQUENCE:3
DTSTAMP:20260420T192603Z
URL:https://business.middlesexchamber.com/events/details/human-resource-council-steering-committee-04-18-2023-24654
END:VEVENT

END:VCALENDAR
