BEGIN:VCALENDAR
VERSION:2.0
PRODID:-//ChamberMaster//Event Calendar 2.0//EN
METHOD:PUBLISH
X-PUBLISHED-TTL:P3D
REFRESH-INTERVAL:P3D
CALSCALE:GREGORIAN
BEGIN:VEVENT
DTSTART:20240716T120000Z
DTEND:20240716T130000Z
X-MICROSOFT-CDO-ALLDAYEVENT:FALSE
SUMMARY:HR Council Steering Committee
DESCRIPTION:The Human Resource Council provides an opportunity for HR Professionals to discuss employment related topics\, exchange ideas with their peers and receive professional development and training. \n\n \n\nThe council is in charge of creating engaging events\, informational workshops and addressing recent legislative changes/requirements. Some of the topics for discussion include recruiting\, termination policies and employee incentive and retention programs.\n\n \n\nThis committee is a closed committee. If you would like more information on how you can get involved please contact Sara Mendillo at sara@middlesexchamber.com
X-ALT-DESC;FMTTYPE=text/html:The Human Resource Council provides an opportunity for HR Professionals to discuss employment related topics\, exchange ideas with their peers and receive professional development and training.&nbsp\;<br />\n&nbsp\;<br />\nThe council is in charge of creating engaging events\, informational workshops and addressing recent legislative changes/requirements. Some of the topics for discussion include recruiting\, termination policies and employee incentive and retention programs.<br />\n&nbsp\;<br />\nThis committee is a closed committee. If you would like more information on how you can get involved please contact Sara Mendillo at <a href="mailto:sara@middlesexchamber.com">sara@middlesexchamber.com</a>
LOCATION:Meeting held via Zoom
UID:e.1932.28684
SEQUENCE:3
DTSTAMP:20260419T202749Z
URL:https://business.middlesexchamber.com/events/details/hr-council-steering-committee-07-16-2024-28684
END:VEVENT

END:VCALENDAR
