BEGIN:VCALENDAR
VERSION:2.0
PRODID:-//ChamberMaster//Event Calendar 2.0//EN
METHOD:PUBLISH
X-PUBLISHED-TTL:P3D
REFRESH-INTERVAL:P3D
CALSCALE:GREGORIAN
BEGIN:VEVENT
DTSTART:20250925T160000Z
DTEND:20250925T173000Z
X-MICROSOFT-CDO-ALLDAYEVENT:FALSE
SUMMARY:HR Council presents "Modern Performance Management for Lasting Engagement" Workshop
DESCRIPTION:Build Lasting Employee Engagement with Humony Leadership!\n\n\n\nEmployee engagement is a persistent challenge for many organizations\, but what if the secret to building a truly engaged team isn't about new policies\, but about a new way of leading?\n\n\n\nThis workshop introduces the principles of Humony Leadership- an approach that combines an Elevated Leadership Mindset with essential leadership skills. This isn't just a philosophy it's the foundation for a workplace where employees are motivated\, committed\, and ready to contribute their best. By shifting from simply managing people to genuinely leading them\, you'll discover how to unlock motivation\, build trust\, and create a workplace where employees thrive.\n\n\n\nDuring this workshop\, you'll learn how to:\n\n	Use regular 1:1s to strengthen trust and drive performance.\n	Set goals that clearly connect to organizational success.\n	Deliver constructive feedback that inspires growth.\n	Foster workplace wellness that boosts morale and reduces stress.\n\nThis workshop will show you how performance management\, done right\, becomes the direct application of Humony Leadership transforming it into a powerful driver of engagement and resilience.\n\n\n\n  Register today to start building a more engaged\, committed\, and high-performing team.
X-ALT-DESC;FMTTYPE=text/html:Build Lasting Employee Engagement with Humony Leadership!<br />\n<br />\nEmployee engagement is a persistent challenge for many organizations\, but what if the secret to building a truly engaged team isn&#39\;t about new policies\, but about a new way of leading?<br />\n<br />\nThis workshop introduces the principles of Humony Leadership- an approach that combines an Elevated Leadership Mindset with essential leadership skills. This isn&#39\;t just a philosophy&mdash\;it&#39\;s the foundation for a workplace where employees are motivated\, committed\, and ready to contribute their best. By shifting from simply managing people to genuinely leading them\, you&rsquo\;ll discover how to unlock motivation\, build trust\, and create a workplace where employees thrive.<br />\n<br />\nDuring this workshop\, you&rsquo\;ll learn how to:\n<ul>\n	<li>Use regular 1:1s to strengthen trust and drive performance.</li>\n	<li>Set goals that clearly connect to organizational success.</li>\n	<li>Deliver constructive feedback that inspires growth.</li>\n	<li>Foster workplace wellness that boosts morale and reduces stress.</li>\n</ul>\nThis workshop will show you how performance management\, done right\, becomes the direct application of Humony Leadership&mdash\;transforming it into a powerful driver of engagement and resilience.<br />\n<br />\n<span style="font-family:segoe ui emoji\,sans-serif\;">&#128073\;</span> Register today to start building a more engaged\, committed\, and high-performing team.<br />\n&nbsp\;
LOCATION:This workshop will be held via Zoom
UID:e.1932.33587
SEQUENCE:3
DTSTAMP:20260424T224239Z
URL:https://business.middlesexchamber.com/events/details/hr-council-presents-modern-performance-management-for-lasting-engagement-workshop-33587
END:VEVENT

END:VCALENDAR
