BEGIN:VCALENDAR
VERSION:2.0
PRODID:-//ChamberMaster//Event Calendar 2.0//EN
METHOD:PUBLISH
X-PUBLISHED-TTL:P3D
REFRESH-INTERVAL:P3D
CALSCALE:GREGORIAN
BEGIN:VEVENT
DTSTART:20251003T140000Z
DTEND:20251003T150000Z
X-MICROSOFT-CDO-ALLDAYEVENT:FALSE
SUMMARY:Homeschoolers Book Club: City Spies
DESCRIPTION:Join us for an engaging class for students ages 7 to 12. We will be reading "City Spies" by James Ponti.\n\n\n\nFrom the jacket: "Sara Martinez is a hacker. She recently broke into the New York City foster care system to expose her foster parents as cheats and lawbreakers. However\, instead of being hailed as a hero\, Sara finds herself facing years in a juvenile detention facility and banned from using computers for the same stretch of time. Enter Mother\, a British spy who not only gets Sara released from jail but also offers her a chance to make a home for herself within a secret MI6 agency.\n\n\n\nOperating out of a base in Scotland\, the City Spies are five kids from various parts of the world. When they're not attending the local boarding school\, they're honing their unique skills\, such as sleight of hand\, breaking and entering\, observation\, and explosives. All of these allow them to go places in the world of espionage where adults can't.\n\n\n\nBefore she knows what she's doing\, Sara is heading to Paris for an international youth summit\, hacking into a rival school's computer to prevent them from winning a million euros\, dangling thirty feet off the side of a building\, and trying to stop a villain all while navigating the complex dynamics of her new team."\n\n\n\nIn addition to reading the story\, class sessions will include relevant math and science lessons\, and will also integrate personal finance activities.\n\n\n\nRegister today!
X-ALT-DESC;FMTTYPE=text/html:<span style="font-size:18px\;">Join us for an engaging class for students ages 7 to 12. We will be reading &quot\;City Spies&quot\; by James Ponti.<br />\n<br />\nFrom the jacket: &quot\;Sara Martinez is a hacker. She recently broke into the New York City foster care system to expose her foster parents as cheats and lawbreakers. However\, instead of being hailed as a hero\, Sara finds herself facing years in a juvenile detention facility and banned from using computers for the same stretch of time. Enter Mother\, a British spy who not only gets Sara released from jail but also offers her a chance to make a home for herself within a secret MI6 agency.<br />\n<br />\nOperating out of a base in Scotland\, the City Spies are five kids from various parts of the world. When they&rsquo\;re not attending the local boarding school\, they&rsquo\;re honing their unique skills\, such as sleight of hand\, breaking and entering\, observation\, and explosives. All of these allow them to go places in the world of espionage where adults can&rsquo\;t.<br />\n<br />\nBefore she knows what she&rsquo\;s doing\, Sara is heading to Paris for an international youth summit\, hacking into a rival school&rsquo\;s computer to prevent them from winning a million euros\, dangling thirty feet off the side of a building\, and trying to stop a villain&hellip\;all while navigating the complex dynamics of her new team.&quot\;<br />\n<br />\nIn addition to reading the story\, class sessions will include relevant math and science lessons\, and will also integrate personal finance activities.<br />\n<br />\n<a href="https://cvent.me/Zy3X8a"><strong>Register today!</strong></a></span>
LOCATION:This book club is held only on Teams.
UID:e.1932.33899
SEQUENCE:3
DTSTAMP:20260424T213529Z
URL:https://business.middlesexchamber.com/events/details/homeschoolers-book-club-city-spies-33899
END:VEVENT

END:VCALENDAR
