BEGIN:VCALENDAR
VERSION:2.0
PRODID:-//ChamberMaster//Event Calendar 2.0//EN
METHOD:PUBLISH
X-PUBLISHED-TTL:P3D
REFRESH-INTERVAL:P3D
CALSCALE:GREGORIAN
BEGIN:VEVENT
DTSTART:20221115T220000Z
DTEND:20221116T013000Z
X-MICROSOFT-CDO-ALLDAYEVENT:FALSE
SUMMARY:Holiday Village at ReStore Sip n' Shop Preview Night
DESCRIPTION:Join Middlesex Habitat for Humanity\, on Tuesday\, November 15\, 2022\,\n\nfor an Evening of Sips\, Apps\, Shopping\, and Mingling!\n\n\n\nAdmission - $25 | VIP Admission - $50\n\nTickets will not be available at the door.\n\n\n\nHoliday Village at ReStore will feature a wide range of holiday decorations. The pop-up shop will run from November 16 through December 31\, 2022.\n\n\n\nAll proceeds from Holiday Village at ReStore will support the work Middlesex Habitat for Humanity is doing in the community.\n\n\n\nThe fun and festivities will feature:\n\n~Beer & Wine\, Mulled Cider\, Light Bites\n\n~Live Music\n\n~Complimentary Holiday Village at ReStore Cotton Tote Bag\n\n~One raffle ticket for a chance to win one of three prizes\n\nVIP Guests will also receive:\n\n~Early entry to the Holiday Village (5 pm)\n\n~Sparkling Prosecco Hour (5pm - 6pm)\n\n~Candle by Get Lit Candle & Co\n\n~Event T-shirt
X-ALT-DESC;FMTTYPE=text/html:<div style="text-align: center\;"><strong>Join Middlesex Habitat for Humanity\, on Tuesday\, November 15\, 2022\,<br />\nfor an Evening of Sips\, Apps\, Shopping\, and Mingling!</strong></div>\n\n<div><br />\n<strong><a href="http://www.eventbrite.com/e/sip-n-shop-preview-night-tickets-420626464077">Admission - $25 | VIP Admission - $50</a></strong><br />\n<em>Tickets will not be available at the door.</em></div>\n\n<div><br />\nHoliday Village at ReStore will feature a wide range of holiday decorations. The pop-up shop will run from November 16 through December 31\, 2022.</div>\n\n<div><br />\nAll proceeds from Holiday Village at ReStore will support the work Middlesex Habitat for Humanity is doing in the community.</div>\n\n<div><br />\nThe fun and festivities will feature:<br />\n~Beer &amp\; Wine\, Mulled Cider\, Light Bites<br />\n~Live Music<br />\n~Complimentary Holiday Village at ReStore Cotton Tote Bag<br />\n~One raffle ticket for a chance to win one of three prizes</div>\n\n<div>VIP Guests will also receive:<br />\n~Early entry to the Holiday Village (5 pm)<br />\n~Sparkling Prosecco Hour (5pm - 6pm)<br />\n~Candle by Get Lit Candle &amp\; Co<br />\n~Event T-shirt</div>\n\n<div>&nbsp\;</div>\n
LOCATION:Cromwell ReStore 34 Shunpike Road Cromwell\, CT 06416
UID:e.1932.24020
SEQUENCE:3
DTSTAMP:20260420T220729Z
URL:https://business.middlesexchamber.com/events/details/holiday-village-at-restore-sip-n-shop-preview-night-24020
END:VEVENT

END:VCALENDAR
