BEGIN:VCALENDAR
VERSION:2.0
PRODID:-//ChamberMaster//Event Calendar 2.0//EN
METHOD:PUBLISH
X-PUBLISHED-TTL:P3D
REFRESH-INTERVAL:P3D
CALSCALE:GREGORIAN
BEGIN:VEVENT
DTSTART:20221126T150000Z
DTEND:20221126T210000Z
X-MICROSOFT-CDO-ALLDAYEVENT:FALSE
SUMMARY:Holiday Village at ReStore
DESCRIPTION:Holiday Village at ReStore will feature a wide range of holiday decorations. The pop-up shop will run from November 16 through December 31\, 2022.\n\n\n\nAll proceeds from Holiday Village at ReStore will support the work Middlesex Habitat for Humanity is doing in the community.
X-ALT-DESC;FMTTYPE=text/html:<div><span style="font-family:arial\,helvetica\,sans-serif">Holiday Village at ReStore will feature a wide range of holiday decorations. The pop-up shop will run from November 16 through December 31\, 2022.<br />\n<br />\nAll proceeds from Holiday Village at ReStore will support the work Middlesex Habitat for Humanity is doing in the community.</span></div>\n
LOCATION:Cromwell ReStore 34 Shunpike Road Cromwell\, CT 06416
UID:e.1932.24041
SEQUENCE:3
DTSTAMP:20260420T220253Z
URL:https://business.middlesexchamber.com/events/details/holiday-village-at-restore-11-26-2022-24041
END:VEVENT

END:VCALENDAR
