BEGIN:VCALENDAR
VERSION:2.0
PRODID:-//ChamberMaster//Event Calendar 2.0//EN
METHOD:PUBLISH
X-PUBLISHED-TTL:P3D
REFRESH-INTERVAL:P3D
CALSCALE:GREGORIAN
BEGIN:VEVENT
DTSTART:20211204T160000Z
DTEND:20211204T200000Z
X-MICROSOFT-CDO-ALLDAYEVENT:FALSE
SUMMARY:Holiday Shopping Fair
DESCRIPTION:Holiday Shopping Fair\nGet Your Holiday Shopping done and support a great cause!\n\n\n\nSaturday\, December 4\, 2021\n\n11:00 a.m. to 3:00 p.m.\n\nSumner Brook Farm Indoor Riding Arena\n\n874 Millbrook Road\, Middletown\, CT\n\n\n\nAdmission is free (donations are welcome!)\n\nTeacup Raffle\, Free Shopping Totes to the first 40 people\n\n\n\nOver 20 Local Artists and Vendors. Handmade Crafts\, Jewelry\, Candles\, Wood Signs\, Home Furnishings\, Tastefully Simple\, Home Decor and so much more!\n\n\n\nVisit www.sumnerbrookfarm.com to learn more!\n\n\n\nThis event will benefit Sumner Brook Farm Equine Rescue and Retirement Facility
X-ALT-DESC;FMTTYPE=text/html:<h2>Holiday Shopping Fair</h2>\nGet Your Holiday Shopping done and support a great cause!<br />\n<br />\nSaturday\, December 4\, 2021<br />\n11:00 a.m. to 3:00 p.m.<br />\nSumner Brook Farm Indoor Riding Arena<br />\n874 Millbrook Road\, Middletown\, CT<br />\n<br />\nAdmission is free (donations are welcome!)<br />\nTeacup Raffle\, Free Shopping Totes to the first 40 people<br />\n<br />\nOver 20 Local Artists and Vendors. Handmade Crafts\, Jewelry\, Candles\, Wood Signs\, Home Furnishings\, Tastefully Simple\, Home Decor and so much more!<br />\n<br />\nVisit <a href="http://www.sumnerbrookfarm.com">www.sumnerbrookfarm.com</a> to learn more!<br />\n<br />\n<em>This event will benefit Sumner Brook Farm Equine Rescue and Retirement Facility</em>
LOCATION:Sumner Brook Farm Indoor Riding Arena 874 Millbrook Road Middletown\, CT
UID:e.1932.22317
SEQUENCE:3
DTSTAMP:20260421T070835Z
URL:https://business.middlesexchamber.com/events/details/holiday-shopping-fair-22317
END:VEVENT

END:VCALENDAR
