BEGIN:VCALENDAR
VERSION:2.0
PRODID:-//ChamberMaster//Event Calendar 2.0//EN
METHOD:PUBLISH
X-PUBLISHED-TTL:P3D
REFRESH-INTERVAL:P3D
CALSCALE:GREGORIAN
BEGIN:VEVENT
DTSTART:20211218T210000Z
DTEND:20211218T233000Z
X-MICROSOFT-CDO-ALLDAYEVENT:FALSE
SUMMARY:Holiday on Main street presents Magic of Middletown - Dashing Through Downtown Holiday Vehicle Parade
DESCRIPTION:Dashing through Downtown Holiday Vehicle Parade\n\n\n\nParade kicks off at 6:30 PM\n\n	Join us for our second annual decorated vehicle parade! Participating vehicles will register and lineup at Middletown High School and will parade through downtown Middletown\, led by Santa\, to view the fabulous decorations on display.\n\n\n \n\n\n	This year\, enjoy a little friendly competition for the most festive vehicles! Mayor Ben Florsheim\, Jingles the Gnome\, and Santa will select their favorite vehicles in the parade!\n\n\n \n\n\n	Registration will be from 4:00-6:00 pm. $5 fee per vehicle and donated toy. Judging will take place at 6:15 p.m. The parade will take off at 6:30 p.m. SHARP! Don't be late!\n\n\n \n\n\n	Decorate your car\, van\, truck\, a flatbed\, a sleigh\, whatever you have! Don't forget\, the more decorations\, the better!!
X-ALT-DESC;FMTTYPE=text/html:<strong><span style="border:none windowtext 1.0pt\;padding:0in\;"><span style="color:black\;"><span style="font-family:arial\,sans-serif\;"><span style="font-size:22.5pt\;">Dashing through Downtown Holiday Vehicle Parade</span></span></span></span></strong><br />\n<br />\n<strong><span style="color:black\;"><span style="font-family:arial\,sans-serif\;"><span style="font-size:10.5pt\;">Parade kicks off at 6:30 PM</span></span></span></strong>\n<ul>\n	<li style="vertical-align:baseline\;"><span style="border:none windowtext 1.0pt\;padding:0in\;"><span style="color:black\;"><span style="font-family:arial\,sans-serif\;"><span style="font-size:10.5pt\;">Join us for our&nbsp\;<strong>second annual decorated vehicle parade</strong>! Participating vehicles will register and lineup at&nbsp\;<strong>Middletown High School</strong>&nbsp\;and will parade through downtown Middletown\, led by Santa\, to view the fabulous decorations on display.</span></span></span></span></li>\n</ul>\n\n<div style="vertical-align:baseline\;">&nbsp\;</div>\n\n<ul>\n	<li style="vertical-align:baseline\;"><span style="border:none windowtext 1.0pt\;padding:0in\;"><span style="color:black\;"><span style="font-family:arial\,sans-serif\;"><span style="font-size:10.5pt\;">This year\, enjoy a little friendly competition for the<strong>&nbsp\;most festive vehicles</strong>! Mayor Ben Florsheim\, Jingles the Gnome\, and Santa will select their favorite vehicles in the parade!</span></span></span></span></li>\n</ul>\n\n<div style="vertical-align:baseline\;">&nbsp\;</div>\n\n<ul>\n	<li style="vertical-align:baseline\;"><strong><span style="border:none windowtext 1.0pt\;padding:0in\;"><span style="color:black\;"><span style="font-family:arial\,sans-serif\;"><span style="font-size:10.5pt\;">Registration will be from 4:00-6:00 pm. $5 fee per vehicle and donated toy. Judging will take place at 6:15 p.m. The parade will take off at 6:30 p.m. SHARP! Don&rsquo\;t be late!</span></span></span></span></strong></li>\n</ul>\n\n<div style="vertical-align:baseline\;">&nbsp\;</div>\n\n<ul>\n	<li style="vertical-align:baseline\;"><span style="border:none windowtext 1.0pt\;padding:0in\;"><span style="color:black\;"><span style="font-family:arial\,sans-serif\;"><span style="font-size:10.5pt\;">Decorate your car\, van\, truck\, a flatbed\, a sleigh\, whatever you have! Don&rsquo\;t forget\, the more decorations\, the better!!</span></span></span></span></li>\n</ul>\n&nbsp\;
LOCATION:Parade Registration/Staging Area: Middletown High School 200 LaRosa Lane\, Middletown
UID:e.1932.22379
SEQUENCE:3
DTSTAMP:20260421T084442Z
URL:https://business.middlesexchamber.com/events/details/holiday-on-main-street-presents-magic-of-middletown-dashing-through-downtown-holiday-vehicle-parade-22379
END:VEVENT

END:VCALENDAR
