BEGIN:VCALENDAR
VERSION:2.0
PRODID:-//ChamberMaster//Event Calendar 2.0//EN
METHOD:PUBLISH
X-PUBLISHED-TTL:P3D
REFRESH-INTERVAL:P3D
CALSCALE:GREGORIAN
BEGIN:VEVENT
DTSTART:20221125T230000Z
DTEND:20221126T000000Z
X-MICROSOFT-CDO-ALLDAYEVENT:FALSE
SUMMARY:Holiday on Main Street presents Magic of Middletown
DESCRIPTION:PLEASE NOTE: THE TREE LIGHTING WILL TAKE PLACE RAIN OR SHINE!\n\nMagic of Middletown Tree Lighting Ceremony\n\n4:00   8:00 p.m.\n\n\n	4:00 p.m.   8:00 p.m.- Middlesex County Chamber of Commerce  Join us in front of the Chamber office for popcorn & hot pretzels served up by The Kiwanis Club of Middletown as well as Free Wagon Rides on Main Street. The wagon rides will take a short break while the Tree Lighting is happening on the South Green and the Rides will resume after the Tree Lighting at the Middlesex Chamber!\n\n\n \n\n\n	5:00   6:00 p.m.- South Green- Join the Carol Sing sponsored by Middletown Commission on the Arts!\n\n\n \n\n\n	5:40 p.m.   Santa and Mayor Ben Florsheim arrive by the Holiday Wagon Ride for the Tree Lighting on the South Green!\n\n\n \n\n\n	6:00 p.m.   TREE LIGHTING on the South Green   The Mayor and Santa Claus will turn on the lights on the big tree on the South Green!\n\n\n \n\n\n	6:15 p.m.   Parade up Main Street with a stop at Spear Park to light the Holiday Display and then proceed to the Middlesex County Chamber of Commerce (393 Main St)\, where Santa and the Mayor turn on the Lights on the Tree\, donated by Kronenberger & Sons Restoration\, on the Chamber Roof!\n\n\n \n\n\n	Free Pictures with Santa\, courtesy of Pratt & Whitney in front of the Church of the Holy Trinity\, immediately following the Tree Lighting at the Chamber! Pictures will be taken by Lori Lodge!\n\n\n \n\n\n	8:15 p.m.   Annual Tree Lighting in front of Eli Cannon's Tap Room\, 695 Main Street\, where SANTA will arrive by fire engine to light the tree. Elves will be on the sidewalk with Popcorn\, Cookies\, Hot Chocolate and Treats for the Kids!
X-ALT-DESC;FMTTYPE=text/html:<h4 class="_04xlpA direction-ltr align-start para-style-body" open="" style="box-sizing: border-box\; margin: 0px 0px 20px\; padding: 0px\; border: 0px\; font-size: 24px\; font-weight: 600\; vertical-align: baseline\; background-image: initial\; background-position: initial\; background-size: initial\; background-repeat: initial\; background-attachment: initial\; background-origin: initial\; background-clip: initial\; color: rgb(50\, 69\, 69)\; font-family: "><span style="color:#000000\;"><strong style="box-sizing: border-box\; margin: 0px\; padding: 0px\; border: 0px\; vertical-align: baseline\; background: transparent\;"><span class="JsGRdQ" style="box-sizing: border-box\; margin: 0px\; padding: 0px\; border: 0px\; font-weight: normal\; vertical-align: baseline\; background: transparent\;">PLEASE NOTE: THE TREE LIGHTING WILL TAKE PLACE RAIN OR SHINE!</span></strong></span></h4>\n\n<h4 class="_04xlpA direction-ltr align-start para-style-body" open="" style="box-sizing: border-box\; margin: 0px 0px 20px\; padding: 0px\; border: 0px\; font-size: 24px\; font-weight: 600\; vertical-align: baseline\; background-image: initial\; background-position: initial\; background-size: initial\; background-repeat: initial\; background-attachment: initial\; background-origin: initial\; background-clip: initial\; color: rgb(50\, 69\, 69)\; font-family: "><span style="color:#000000\;"><strong style="box-sizing: border-box\; margin: 0px\; padding: 0px\; border: 0px\; vertical-align: baseline\; background: transparent\;"><span class="JsGRdQ" style="box-sizing: border-box\; margin: 0px\; padding: 0px\; border: 0px\; font-weight: normal\; vertical-align: baseline\; background: transparent\;">Magic of Middletown Tree Lighting Ceremony</span></strong></span></h4>\n\n<p color:="" open="" style="box-sizing: border-box\; margin: 0px 0px 20px\; padding: 0px\; border: 0px\; font-size: 14px\; font-weight: 600\; vertical-align: baseline\; background-image: initial\; background-position: initial\; background-size: initial\; background-repeat: initial\; background-attachment: initial\; background-origin: initial\; background-clip: initial\; line-height: 24px\; font-family: "><span style="color:#000000\;"><strong style="box-sizing: border-box\; margin: 0px\; padding: 0px\; border: 0px\; vertical-align: baseline\; background: transparent\;">4:00 &ndash\; 8:00 p.m.</strong></span></p>\n\n<ul style="box-sizing: border-box\; margin: 0px 0px 0px 20px\; padding-right: 0px\; padding-left: 0px\; border: 0px\; font-size: 14px\; vertical-align: baseline\; background-image: initial\; background-position: initial\; background-size: initial\; background-repeat: initial\; background-attachment: initial\; background-origin: initial\; background-clip: initial\; list-style: inherit\; color: rgb(122\, 122\, 122)\; font-family: Roboto\, sans-serif\;">\n	<li style="box-sizing: border-box\; margin: 0px\; padding: 0px\; border: 0px\; vertical-align: baseline\; background: transparent\; line-height: 30px\;"><span style="color:#000000\;"><span class="JsGRdQ" style="box-sizing: border-box\; margin: 0px\; padding: 0px\; border: 0px\; vertical-align: baseline\; background: transparent\;"><b style="box-sizing: border-box\; margin: 0px\; padding: 0px\; border: 0px\; vertical-align: baseline\; background: transparent\;">4:00 p.m. &ndash\; 8:00 p.m.- Middlesex County Chamber of Commerce&ndash\;</b></span><span class="JsGRdQ" style="box-sizing: border-box\; margin: 0px\; padding: 0px\; border: 0px\; vertical-align: baseline\; background: transparent\;"><b style="box-sizing: border-box\; margin: 0px\; padding: 0px\; border: 0px\; vertical-align: baseline\; background: transparent\;">&nbsp\;</b>Join us in front of the Chamber office for<b style="box-sizing: border-box\; margin: 0px\; padding: 0px\; border: 0px\; vertical-align: baseline\; background: transparent\;">&nbsp\;</b></span><span class="JsGRdQ" style="box-sizing: border-box\; margin: 0px\; padding: 0px\; border: 0px\; vertical-align: baseline\; background: transparent\;"><b style="box-sizing: border-box\; margin: 0px\; padding: 0px\; border: 0px\; vertical-align: baseline\; background: transparent\;">popcorn &amp\; hot pretzels&nbsp\;</b></span><span class="JsGRdQ" style="box-sizing: border-box\; margin: 0px\; padding: 0px\; border: 0px\; vertical-align: baseline\; background: transparent\;">served up by&nbsp\;</span><span class="JsGRdQ" style="box-sizing: border-box\; margin: 0px\; padding: 0px\; border: 0px\; vertical-align: baseline\; background: transparent\;"><b style="box-sizing: border-box\; margin: 0px\; padding: 0px\; border: 0px\; vertical-align: baseline\; background: transparent\;">The Kiwanis Club of Middletown&nbsp\;</b></span><span class="JsGRdQ" style="box-sizing: border-box\; margin: 0px\; padding: 0px\; border: 0px\; vertical-align: baseline\; background: transparent\;">as well as<b style="box-sizing: border-box\; margin: 0px\; padding: 0px\; border: 0px\; vertical-align: baseline\; background: transparent\;">&nbsp\;</b></span><span class="JsGRdQ" style="box-sizing: border-box\; margin: 0px\; padding: 0px\; border: 0px\; vertical-align: baseline\; background: transparent\;"><b style="box-sizing: border-box\; margin: 0px\; padding: 0px\; border: 0px\; vertical-align: baseline\; background: transparent\;">Free Wagon Rides</b>&nbsp\;</span><span class="JsGRdQ" style="box-sizing: border-box\; margin: 0px\; padding: 0px\; border: 0px\; vertical-align: baseline\; background: transparent\;">on Main Street. The wagon rides will take a short break while the Tree Lighting is happening on the South Green and the Rides will resume after the Tree Lighting at the Middlesex Chamber!</span></span></li>\n</ul>\n\n<div style="box-sizing: border-box\; margin: 0px\; padding: 0px\; border: 0px\; vertical-align: baseline\; background: transparent\; line-height: 30px\;">&nbsp\;</div>\n\n<ul style="box-sizing: border-box\; margin: 0px 0px 0px 20px\; padding-right: 0px\; padding-left: 0px\; border: 0px\; font-size: 14px\; vertical-align: baseline\; background-image: initial\; background-position: initial\; background-size: initial\; background-repeat: initial\; background-attachment: initial\; background-origin: initial\; background-clip: initial\; list-style: inherit\; color: rgb(122\, 122\, 122)\; font-family: Roboto\, sans-serif\;">\n	<li style="box-sizing: border-box\; margin: 0px\; padding: 0px\; border: 0px\; vertical-align: baseline\; background: transparent\; line-height: 30px\;"><span style="color:#000000\;"><span class="JsGRdQ" style="box-sizing: border-box\; margin: 0px\; padding: 0px\; border: 0px\; vertical-align: baseline\; background: transparent\;"><b style="box-sizing: border-box\; margin: 0px\; padding: 0px\; border: 0px\; vertical-align: baseline\; background: transparent\;">5:00 &ndash\; 6:00 p.m.- South Green-&nbsp\;</b></span><span class="JsGRdQ" style="box-sizing: border-box\; margin: 0px\; padding: 0px\; border: 0px\; vertical-align: baseline\; background: transparent\;">Join the<b style="box-sizing: border-box\; margin: 0px\; padding: 0px\; border: 0px\; vertical-align: baseline\; background: transparent\;">&nbsp\;</b></span><span class="JsGRdQ" style="box-sizing: border-box\; margin: 0px\; padding: 0px\; border: 0px\; vertical-align: baseline\; background: transparent\;"><b style="box-sizing: border-box\; margin: 0px\; padding: 0px\; border: 0px\; vertical-align: baseline\; background: transparent\;">Carol Sing</b>&nbsp\;</span><span class="JsGRdQ" style="box-sizing: border-box\; margin: 0px\; padding: 0px\; border: 0px\; vertical-align: baseline\; background: transparent\;">sponsored by Middletown Commission on the Arts!</span></span></li>\n</ul>\n\n<div style="box-sizing: border-box\; margin: 0px\; padding: 0px\; border: 0px\; vertical-align: baseline\; background: transparent\; line-height: 30px\;">&nbsp\;</div>\n\n<ul style="box-sizing: border-box\; margin: 0px 0px 0px 20px\; padding-right: 0px\; padding-left: 0px\; border: 0px\; font-size: 14px\; vertical-align: baseline\; background-image: initial\; background-position: initial\; background-size: initial\; background-repeat: initial\; background-attachment: initial\; background-origin: initial\; background-clip: initial\; list-style: inherit\; color: rgb(122\, 122\, 122)\; font-family: Roboto\, sans-serif\;">\n	<li style="box-sizing: border-box\; margin: 0px\; padding: 0px\; border: 0px\; vertical-align: baseline\; background: transparent\; line-height: 30px\;"><span style="color:#000000\;"><span class="JsGRdQ" style="box-sizing: border-box\; margin: 0px\; padding: 0px\; border: 0px\; vertical-align: baseline\; background: transparent\; font-family: var( --e-global-typography-text-font-family )\, Sans-serif\;"><b style="box-sizing: border-box\; margin: 0px\; padding: 0px\; border: 0px\; vertical-align: baseline\; background: transparent\;">5:40 p.m</b></span><span class="JsGRdQ" style="box-sizing: border-box\; margin: 0px\; padding: 0px\; border: 0px\; vertical-align: baseline\; background: transparent\; font-family: var( --e-global-typography-text-font-family )\, Sans-serif\;"><b style="box-sizing: border-box\; margin: 0px\; padding: 0px\; border: 0px\; vertical-align: baseline\; background: transparent\;">. &ndash\;</b>&nbsp\;</span><span class="JsGRdQ" style="box-sizing: border-box\; margin: 0px\; padding: 0px\; border: 0px\; vertical-align: baseline\; background: transparent\; font-family: var( --e-global-typography-text-font-family )\, Sans-serif\;"><b style="box-sizing: border-box\; margin: 0px\; padding: 0px\; border: 0px\; vertical-align: baseline\; background: transparent\;">Santa and Mayor Ben Florsheim&nbsp\;</b></span><span class="JsGRdQ" style="box-sizing: border-box\; margin: 0px\; padding: 0px\; border: 0px\; vertical-align: baseline\; background: transparent\; font-family: var( --e-global-typography-text-font-family )\, Sans-serif\;">arrive by the Holiday Wagon Ride for the Tree Lighting on the&nbsp\;</span><span class="JsGRdQ" style="box-sizing: border-box\; margin: 0px\; padding: 0px\; border: 0px\; vertical-align: baseline\; background: transparent\; font-family: var( --e-global-typography-text-font-family )\, Sans-serif\;"><b style="box-sizing: border-box\; margin: 0px\; padding: 0px\; border: 0px\; vertical-align: baseline\; background: transparent\;">South Green</b></span><span class="JsGRdQ" style="box-sizing: border-box\; margin: 0px\; padding: 0px\; border: 0px\; vertical-align: baseline\; background: transparent\; font-family: var( --e-global-typography-text-font-family )\, Sans-serif\;">!</span></span></li>\n</ul>\n\n<div style="box-sizing: border-box\; margin: 0px\; padding: 0px\; border: 0px\; vertical-align: baseline\; background: transparent\; line-height: 30px\;">&nbsp\;</div>\n\n<ul style="box-sizing: border-box\; margin: 0px 0px 0px 20px\; padding-right: 0px\; padding-left: 0px\; border: 0px\; font-size: 14px\; vertical-align: baseline\; background-image: initial\; background-position: initial\; background-size: initial\; background-repeat: initial\; background-attachment: initial\; background-origin: initial\; background-clip: initial\; list-style: inherit\; color: rgb(122\, 122\, 122)\; font-family: Roboto\, sans-serif\;">\n	<li style="box-sizing: border-box\; margin: 0px\; padding: 0px\; border: 0px\; vertical-align: baseline\; background: transparent\; line-height: 30px\;"><span style="color:#000000\;"><span class="JsGRdQ" style="box-sizing: border-box\; margin: 0px\; padding: 0px\; border: 0px\; vertical-align: baseline\; background: transparent\;"><b style="box-sizing: border-box\; margin: 0px\; padding: 0px\; border: 0px\; vertical-align: baseline\; background: transparent\;">6:00 p.m. &ndash\; TREE LIGHTING on the South Green &ndash\; The Mayor and Santa Claus will turn on the lights on the big tree on the South Green!</b></span></span></li>\n</ul>\n\n<div style="box-sizing: border-box\; margin: 0px\; padding: 0px\; border: 0px\; vertical-align: baseline\; background: transparent\; line-height: 30px\;">&nbsp\;</div>\n\n<ul style="box-sizing: border-box\; margin: 0px 0px 0px 20px\; padding-right: 0px\; padding-left: 0px\; border: 0px\; font-size: 14px\; vertical-align: baseline\; background-image: initial\; background-position: initial\; background-size: initial\; background-repeat: initial\; background-attachment: initial\; background-origin: initial\; background-clip: initial\; list-style: inherit\; color: rgb(122\, 122\, 122)\; font-family: Roboto\, sans-serif\;">\n	<li style="box-sizing: border-box\; margin: 0px\; padding: 0px\; border: 0px\; vertical-align: baseline\; background: transparent\; line-height: 30px\;"><span style="color:#000000\;"><span class="JsGRdQ" style="box-sizing: border-box\; margin: 0px\; padding: 0px\; border: 0px\; vertical-align: baseline\; background: transparent\;"><b style="box-sizing: border-box\; margin: 0px\; padding: 0px\; border: 0px\; vertical-align: baseline\; background: transparent\;">6:15 p.m. &ndash\; Parade up Main Street</b></span><span class="JsGRdQ" style="box-sizing: border-box\; margin: 0px\; padding: 0px\; border: 0px\; vertical-align: baseline\; background: transparent\;"><b style="box-sizing: border-box\; margin: 0px\; padding: 0px\; border: 0px\; vertical-align: baseline\; background: transparent\;">&nbsp\;</b>with a stop at<b style="box-sizing: border-box\; margin: 0px\; padding: 0px\; border: 0px\; vertical-align: baseline\; background: transparent\;">&nbsp\;</b></span><span class="JsGRdQ" style="box-sizing: border-box\; margin: 0px\; padding: 0px\; border: 0px\; vertical-align: baseline\; background: transparent\;"><b style="box-sizing: border-box\; margin: 0px\; padding: 0px\; border: 0px\; vertical-align: baseline\; background: transparent\;">Spear Park</b>&nbsp\;</span><span class="JsGRdQ" style="box-sizing: border-box\; margin: 0px\; padding: 0px\; border: 0px\; vertical-align: baseline\; background: transparent\;">to light the&nbsp\;</span><span class="JsGRdQ" style="box-sizing: border-box\; margin: 0px\; padding: 0px\; border: 0px\; vertical-align: baseline\; background: transparent\;"><b style="box-sizing: border-box\; margin: 0px\; padding: 0px\; border: 0px\; vertical-align: baseline\; background: transparent\;">Holiday Display&nbsp\;</b></span><span class="JsGRdQ" style="box-sizing: border-box\; margin: 0px\; padding: 0px\; border: 0px\; vertical-align: baseline\; background: transparent\;">and then proceed to the<b style="box-sizing: border-box\; margin: 0px\; padding: 0px\; border: 0px\; vertical-align: baseline\; background: transparent\;">&nbsp\;</b></span><span class="JsGRdQ" style="box-sizing: border-box\; margin: 0px\; padding: 0px\; border: 0px\; vertical-align: baseline\; background: transparent\;"><b style="box-sizing: border-box\; margin: 0px\; padding: 0px\; border: 0px\; vertical-align: baseline\; background: transparent\;">Middlesex County Chamber of Commerce&nbsp\;</b>(393 Main St)</span><span class="JsGRdQ" style="box-sizing: border-box\; margin: 0px\; padding: 0px\; border: 0px\; vertical-align: baseline\; background: transparent\;">\, where&nbsp\;</span><span class="JsGRdQ" style="box-sizing: border-box\; margin: 0px\; padding: 0px\; border: 0px\; vertical-align: baseline\; background: transparent\;">Santa and the Mayor&nbsp\;</span><span class="JsGRdQ" style="box-sizing: border-box\; margin: 0px\; padding: 0px\; border: 0px\; vertical-align: baseline\; background: transparent\;">turn on the<b style="box-sizing: border-box\; margin: 0px\; padding: 0px\; border: 0px\; vertical-align: baseline\; background: transparent\;">&nbsp\;</b></span><span class="JsGRdQ" style="box-sizing: border-box\; margin: 0px\; padding: 0px\; border: 0px\; vertical-align: baseline\; background: transparent\;"><b style="box-sizing: border-box\; margin: 0px\; padding: 0px\; border: 0px\; vertical-align: baseline\; background: transparent\;">Lights on the Tree\, donated by Kronenberger &amp\; Sons Restoration</b></span><span class="JsGRdQ" style="box-sizing: border-box\; margin: 0px\; padding: 0px\; border: 0px\; vertical-align: baseline\; background: transparent\;"><b style="box-sizing: border-box\; margin: 0px\; padding: 0px\; border: 0px\; vertical-align: baseline\; background: transparent\;">\,&nbsp\;</b>on the Chamber Roof!</span></span></li>\n</ul>\n\n<div style="box-sizing: border-box\; margin: 0px\; padding: 0px\; border: 0px\; vertical-align: baseline\; background: transparent\; line-height: 30px\;">&nbsp\;</div>\n\n<ul style="box-sizing: border-box\; margin: 0px 0px 0px 20px\; padding-right: 0px\; padding-left: 0px\; border: 0px\; font-size: 14px\; vertical-align: baseline\; background-image: initial\; background-position: initial\; background-size: initial\; background-repeat: initial\; background-attachment: initial\; background-origin: initial\; background-clip: initial\; list-style: inherit\; color: rgb(122\, 122\, 122)\; font-family: Roboto\, sans-serif\;">\n	<li style="box-sizing: border-box\; margin: 0px\; padding: 0px\; border: 0px\; vertical-align: baseline\; background: transparent\; line-height: 30px\;"><span style="color:#000000\;"><span class="JsGRdQ" style="box-sizing: border-box\; margin: 0px\; padding: 0px\; border: 0px\; vertical-align: baseline\; background: transparent\;"><b style="box-sizing: border-box\; margin: 0px\; padding: 0px\; border: 0px\; vertical-align: baseline\; background: transparent\;">Free Pictures with Santa\, courtesy of Pratt &amp\; Whitney</b>&nbsp\;</span><span class="JsGRdQ" style="box-sizing: border-box\; margin: 0px\; padding: 0px\; border: 0px\; vertical-align: baseline\; background: transparent\;">in front of the Church of the Holy Trinity\, immediately following the Tree Lighting at the Chamber! Pictures will be taken by Lori Lodge!</span></span></li>\n</ul>\n\n<div style="box-sizing: border-box\; margin: 0px\; padding: 0px\; border: 0px\; vertical-align: baseline\; background: transparent\; line-height: 30px\;">&nbsp\;</div>\n\n<ul style="box-sizing: border-box\; margin: 0px 0px 0px 20px\; padding-right: 0px\; padding-left: 0px\; border: 0px\; font-size: 14px\; vertical-align: baseline\; background-image: initial\; background-position: initial\; background-size: initial\; background-repeat: initial\; background-attachment: initial\; background-origin: initial\; background-clip: initial\; list-style: inherit\; color: rgb(122\, 122\, 122)\; font-family: Roboto\, sans-serif\;">\n	<li style="box-sizing: border-box\; margin: 0px\; padding: 0px\; border: 0px\; vertical-align: baseline\; background: transparent\; line-height: 30px\;"><span style="color:#000000\;"><span class="JsGRdQ" style="box-sizing: border-box\; margin: 0px\; padding: 0px\; border: 0px\; vertical-align: baseline\; background: transparent\;"><b style="box-sizing: border-box\; margin: 0px\; padding: 0px\; border: 0px\; vertical-align: baseline\; background: transparent\;">8:15 p.m. &ndash\; Annual Tree Lighting in front of Eli Cannon&rsquo\;s Tap Room</b></span><span class="JsGRdQ" style="box-sizing: border-box\; margin: 0px\; padding: 0px\; border: 0px\; vertical-align: baseline\; background: transparent\;">\, 695 Main Street\, where SANTA will arrive by fire engine to light the tree. Elves will be on the sidewalk with Popcorn\, Cookies\, Hot Chocolate and Treats for the Kids!</span></span></li>\n</ul>\n
LOCATION:Main Street\, Middletown
UID:e.1932.24030
SEQUENCE:3
DTSTAMP:20260420T220731Z
URL:https://business.middlesexchamber.com/events/details/holiday-on-main-street-presents-magic-of-middletown-24030
END:VEVENT

END:VCALENDAR
