BEGIN:VCALENDAR
VERSION:2.0
PRODID:-//ChamberMaster//Event Calendar 2.0//EN
METHOD:PUBLISH
X-PUBLISHED-TTL:P3D
REFRESH-INTERVAL:P3D
CALSCALE:GREGORIAN
BEGIN:VEVENT
DTSTART:20211211T150000Z
DTEND:20211211T190000Z
X-MICROSOFT-CDO-ALLDAYEVENT:FALSE
SUMMARY:Holiday on Main Street presents Magic of Middletown
DESCRIPTION:www.holidayonmain.com\n\nHoliday Pop-up Vendor Fair\n\n \n\n	Check out our Holiday Pop-up Vendor fair! Are you looking for that last minute gift or want to support a small local artisan? Come stop by one of the many vendor's set-up along Main Street and then stop into one of the many stores downtown!\n\n\n \n\n\n	Bring your coins to donate to the Middletown Police Department's Coin Drive to benefit the Special Olympics of Connecticut\n\n\n \n\n\n	Enjoy popcorn and hot pretzels outside of the Chamber\, served up by The Rotary Club of Middletown\n\n\n \n\n\n	11:30 a.m.   12 p.m.   Holiday Story Time   Enjoy a holiday reading by Middletown's new Fire Chief Jay Woron!\n\n\n \n\n\n	"Tis the Season to Find a Gnome" Scavenger Hunt- Jingles the Gnome has escaped the Chamber in hopes of finding some holiday magic! Solve the riddle and help us find Jingles at different locations throughout downtown. Take a picture of Jingles (or you in front of Jingles) at all locations and email your images to MagicOfMiddletown@gmail.com. All emails must be received by 3:00PM on Saturday\, December 11 to be entered into the drawing. Upon submission of your email\, you will be added to our weekly drawing for a $100 downtown business district gift card. Winner will be announced on Monday\, December 13 via social media and email.\n\n\n \n\n\n	Get a free picture with Santa on his sleigh! Santa will once again be pulling his sleigh with the help of his favorite reindeer! Stop by and get your picture with Santa before he heads back to the North Pole!\n\n\n \n\n\n	Enjoy free horse & wagon rides down our beautiful Main Street!\n\n\n \n\n\n	Enjoy live music by Bryan Titus as he performs holiday favorites outside of Webster Bank!
X-ALT-DESC;FMTTYPE=text/html:<span style="border:none windowtext 1.0pt\;padding:0in\;"><span style="color:black\;"><span style="font-family:arial\,sans-serif\;"><span style="font-size:22.5pt\;"><a href="https://holidayonmain.com/">www.holidayonmain.com</a><br />\nHoliday Pop-up Vendor Fair</span></span></span></span><br />\n&nbsp\;\n<ul>\n	<li style="vertical-align:baseline\;"><span style="border:none windowtext 1.0pt\;padding:0in\;"><span style="color:black\;"><span style="font-family:arial\,sans-serif\;"><span style="font-size:10.5pt\;">Check out our&nbsp\;<strong>Holiday Pop-up Vendor fair</strong>! Are you looking for that last minute gift or want to support a small local artisan? Come stop by one of the many vendor&rsquo\;s set-up along Main Street and then stop into one of the many stores downtown!</span></span></span></span></li>\n</ul>\n\n<div style="vertical-align:baseline\;">&nbsp\;</div>\n\n<ul>\n	<li style="vertical-align:baseline\;"><strong><span style="border:none windowtext 1.0pt\;padding:0in\;"><span style="color:black\;"><span style="font-family:arial\,sans-serif\;"><span style="font-size:10.5pt\;">Bring your coins</span></span></span></span></strong><span style="border:none windowtext 1.0pt\;padding:0in\;"><span style="color:black\;"><span style="font-family:arial\,sans-serif\;"><span style="font-size:10.5pt\;">&nbsp\;to donate to the Middletown Police Department&rsquo\;s Coin Drive to benefit the&nbsp\;<strong>Special Olympics of Connecticut</strong></span></span></span></span></li>\n</ul>\n\n<div style="vertical-align:baseline\;">&nbsp\;</div>\n\n<ul>\n	<li style="vertical-align:baseline\;"><span style="border:none windowtext 1.0pt\;padding:0in\;"><span style="color:black\;"><span style="font-family:arial\,sans-serif\;"><span style="font-size:10.5pt\;">Enjoy&nbsp\;<strong>popcorn and hot pretzels</strong>&nbsp\;outside of the Chamber\, served up by&nbsp\;<strong>The Rotary Club of Middletown</strong></span></span></span></span></li>\n</ul>\n\n<div style="vertical-align:baseline\;">&nbsp\;</div>\n\n<ul>\n	<li style="vertical-align:baseline\;"><strong><span style="border:none windowtext 1.0pt\;padding:0in\;"><span style="color:black\;"><span style="font-family:arial\,sans-serif\;"><span style="font-size:10.5pt\;">11:30 a.m. &ndash\; 12 p.m. &ndash\; Holiday Story Time&nbsp\;</span></span></span></span></strong><span style="border:none windowtext 1.0pt\;padding:0in\;"><span style="color:black\;"><span style="font-family:arial\,sans-serif\;"><span style="font-size:10.5pt\;">&ndash\; Enjoy a holiday reading by Middletown&rsquo\;s new Fire Chief Jay Woron!</span></span></span></span></li>\n</ul>\n\n<div style="vertical-align:baseline\;">&nbsp\;</div>\n\n<ul>\n	<li style="vertical-align:baseline\;"><strong><span style="border:none windowtext 1.0pt\;padding:0in\;"><span style="color:black\;"><span style="font-family:arial\,sans-serif\;"><span style="font-size:10.5pt\;">&ldquo\;Tis the Season to Find a Gnome&rdquo\; Scavenger Hunt-</span></span></span></span></strong><span style="border:none windowtext 1.0pt\;padding:0in\;"><span style="color:black\;"><span style="font-family:arial\,sans-serif\;"><span style="font-size:10.5pt\;">&nbsp\;Jingles the Gnome has escaped the Chamber in hopes of finding some holiday magic! Solve the riddle and help us find Jingles at different locations throughout downtown. Take a picture of Jingles (or you in front of Jingles) at all locations and email your images to&nbsp\;MagicOfMiddletown@gmail.com. All emails must be received by 3:00PM on Saturday\, December 11 to be entered into the drawing. Upon submission of your email\, you will be added to our weekly drawing for a $100 downtown business district gift card. Winner will be announced on Monday\, December 13 via social media and email.</span></span></span></span></li>\n</ul>\n\n<div style="vertical-align:baseline\;">&nbsp\;</div>\n\n<ul>\n	<li style="vertical-align:baseline\;"><span style="border:none windowtext 1.0pt\;padding:0in\;"><span style="color:black\;"><span style="font-family:arial\,sans-serif\;"><span style="font-size:10.5pt\;">Get a&nbsp\;<strong>free picture with Santa&nbsp\;</strong>on his sleigh! Santa will once again be pulling his sleigh with the help of his favorite reindeer! Stop by and get your picture with Santa before he heads back to the North Pole!</span></span></span></span></li>\n</ul>\n\n<div style="vertical-align:baseline\;">&nbsp\;</div>\n\n<ul>\n	<li style="vertical-align:baseline\;"><span style="border:none windowtext 1.0pt\;padding:0in\;"><span style="color:black\;"><span style="font-family:arial\,sans-serif\;"><span style="font-size:10.5pt\;">Enjoy&nbsp\;<strong>free horse &amp\; wagon rides down&nbsp\;</strong>our beautiful Main Street!</span></span></span></span></li>\n</ul>\n\n<div style="vertical-align:baseline\;">&nbsp\;</div>\n\n<ul>\n	<li style="vertical-align:baseline\;"><span style="border:none windowtext 1.0pt\;padding:0in\;"><span style="color:black\;"><span style="font-family:arial\,sans-serif\;"><span style="font-size:10.5pt\;">Enjoy live music by&nbsp\;<strong>Bryan Titus&nbsp\;</strong>as he performs holiday favorites outside of Webster Bank!</span></span></span></span></li>\n</ul>\n&nbsp\;<br />\n&nbsp\;
LOCATION:Main Street\, Middletown
UID:e.1932.22378
SEQUENCE:3
DTSTAMP:20260421T071432Z
URL:https://business.middlesexchamber.com/events/details/holiday-on-main-street-presents-magic-of-middletown-22378
END:VEVENT

END:VCALENDAR
