BEGIN:VCALENDAR
VERSION:2.0
PRODID:-//ChamberMaster//Event Calendar 2.0//EN
METHOD:PUBLISH
X-PUBLISHED-TTL:P3D
REFRESH-INTERVAL:P3D
CALSCALE:GREGORIAN
BEGIN:VEVENT
DTSTART:20211127T150000Z
DTEND:20211127T190000Z
X-MICROSOFT-CDO-ALLDAYEVENT:FALSE
SUMMARY:Holiday on Main Street presents Magic of Middletown
DESCRIPTION:www.holidayonmain.com\n\n\n\nSmall Business Saturday\n \n\n\n	Small Business Saturday- support our local businesses by shopping small! \n\n\n \n\n\n	Enjoy popcorn and hot pretzels outside of the Chamber\, served up by The Civitan Club of Middletown\n\n\n \n\n\n	"Tis the Season to Find a Gnome" Scavenger Hunt- Jingles the Gnome has escaped the Chamber in hopes of finding some holiday magic! Solve the riddle and help us find Jingles at different locations throughout downtown. Take a picture of Jingles (or you in front of Jingles) at all locations and email your images to MagicOfMiddletown@gmail.com. All emails must be received by 3:00PM on Saturday\, November 27 to be entered into the drawing. Upon submission of your email\, you will be added to our weekly drawing for a $100 downtown business district gift card. Winner will be announced on Monday\, November 29 via social media and email.\n\n\n \n\n\n	Get a free picture with Santa on his sleigh! Santa will once again be pulling his sleigh with the help of his favorite reindeer! Stop by and get your picture with Santa before he heads back to the North Pole!\n\n\n \n\n\n	Enjoy free horse & wagon rides down our beautiful Main Street!\n\n\n \n\n\n	Enjoy the sounds of the holidays as The Connecticut Yuletide Carolers stroll up and down Main Street performing beautiful holiday music sung acapella in four-part harmony!
X-ALT-DESC;FMTTYPE=text/html:<h4 class="_5RYuEA direction-ltr align-start para-style-body" open="" style="box-sizing: border-box\; margin: 20px 0px 10px\; padding: 0px\; border: 0px\; font-size: 30px\; font-weight: 600\; vertical-align: baseline\; background-image: initial\; background-position: initial\; background-size: initial\; background-repeat: initial\; background-attachment: initial\; background-origin: initial\; background-clip: initial\; color: rgb(50\, 69\, 69)\;"><strong style="box-sizing: border-box\; margin: 0px\; padding: 0px\; border: 0px\; vertical-align: baseline\; background: transparent\;"><span class="SS_gjA" style="box-sizing: border-box\; margin: 0px\; padding: 0px\; border: 0px\; font-weight: normal\; vertical-align: baseline\; background: transparent\;"><a href="https://holidayonmain.com/">www.holidayonmain.com</a><br />\n<br />\nSmall Business Saturday</span></strong></h4>\n&nbsp\;\n\n<ul>\n	<li style="vertical-align:baseline\;"><strong><span style="border:none windowtext 1.0pt\;padding:0in\;"><span style="color:black\;"><span style="font-family:arial\,sans-serif\;">Small Business Saturday-&nbsp\;</span></span></span></strong><span style="border:none windowtext 1.0pt\;padding:0in\;"><span style="color:black\;"><span style="font-family:arial\,sans-serif\;">support our local businesses by shopping small!&nbsp\;</span></span></span></li>\n</ul>\n\n<div style="vertical-align:baseline\;">&nbsp\;</div>\n\n<ul>\n	<li style="vertical-align:baseline\;"><span style="border:none windowtext 1.0pt\;padding:0in\;"><span style="color:black\;"><span style="font-family:arial\,sans-serif\;">Enjoy&nbsp\;<strong>popcorn and hot pretzels</strong>&nbsp\;outside of the Chamber\, served up by&nbsp\;<strong>The Civitan Club of Middletown</strong></span></span></span></li>\n</ul>\n\n<div style="vertical-align:baseline\;">&nbsp\;</div>\n\n<ul>\n	<li style="vertical-align:baseline\;"><span style="border:none windowtext 1.0pt\;padding:0in\;"><span style="color:black\;"><span style="font-family:arial\,sans-serif\;">&ldquo\;<strong>Tis the Season to Find a Gnome&rdquo\; Scavenger Hunt-&nbsp\;</strong>Jingles the Gnome has escaped the Chamber in hopes of finding some holiday magic! Solve the riddle and help us find Jingles at different locations throughout downtown. Take a picture of Jingles (or you in front of Jingles) at all locations and email your images to&nbsp\;MagicOfMiddletown@gmail.com. All emails must be received by 3:00PM on Saturday\, November 27 to be entered into the drawing. Upon submission of your email\, you will be added to our weekly drawing for a $100 downtown business district gift card. Winner will be announced on Monday\, November 29 via social media and email.</span></span></span></li>\n</ul>\n\n<div style="vertical-align:baseline\;">&nbsp\;</div>\n\n<ul>\n	<li style="vertical-align:baseline\;"><span style="border:none windowtext 1.0pt\;padding:0in\;"><span style="color:black\;"><span style="font-family:arial\,sans-serif\;">Get a</span></span></span>&nbsp\;<strong><span style="border:none windowtext 1.0pt\;padding:0in\;"><span style="color:black\;"><span style="font-family:arial\,sans-serif\;">free picture with Santa&nbsp\;</span></span></span></strong><span style="border:none windowtext 1.0pt\;padding:0in\;"><span style="color:black\;"><span style="font-family:arial\,sans-serif\;">on his sleigh! Santa will once again be pulling his sleigh with the help of his favorite reindeer! Stop by and get your picture</span></span></span>&nbsp\;<span style="border:none windowtext 1.0pt\;padding:0in\;"><span style="color:black\;"><span style="font-family:arial\,sans-serif\;">with Santa before he heads back to the North Pole!</span></span></span></li>\n</ul>\n\n<div style="vertical-align:baseline\;">&nbsp\;</div>\n\n<ul>\n	<li style="vertical-align:baseline\;"><span style="border:none windowtext 1.0pt\;padding:0in\;"><span style="color:black\;"><span style="font-family:arial\,sans-serif\;">Enjoy&nbsp\;<strong>free horse &amp\; wagon rides&nbsp\;</strong>down our beautiful Main Street!</span></span></span></li>\n</ul>\n\n<div style="vertical-align:baseline\;">&nbsp\;</div>\n\n<ul>\n	<li style="vertical-align:baseline\;"><span style="border:none windowtext 1.0pt\;padding:0in\;"><span style="color:black\;"><span style="font-family:arial\,sans-serif\;">Enjoy the sounds of the holidays as&nbsp\;<strong>The Connecticut Yuletide Carolers</strong>&nbsp\;stroll up and down Main Street performing beautiful holiday music sung acapella in four-part harmony!</span></span></span></li>\n</ul>\n
LOCATION:Main Street\, Middletown
UID:e.1932.22376
SEQUENCE:3
DTSTAMP:20260421T084141Z
URL:https://business.middlesexchamber.com/events/details/holiday-on-main-street-presents-magic-of-middletown-22376
END:VEVENT

END:VCALENDAR
