BEGIN:VCALENDAR
VERSION:2.0
PRODID:-//ChamberMaster//Event Calendar 2.0//EN
METHOD:PUBLISH
X-PUBLISHED-TTL:P3D
REFRESH-INTERVAL:P3D
CALSCALE:GREGORIAN
BEGIN:VEVENT
DTSTART:20211126T210000Z
DTEND:20211127T010000Z
X-MICROSOFT-CDO-ALLDAYEVENT:FALSE
SUMMARY:Holiday on Main Street presents Magic of Middletown
DESCRIPTION:www.holidayonmain.com \n\n\n\nMagic of Middletown Tree Lighting Ceremony\n\n\n	4:00 p.m. - 8:00 p.m.- Middlesex County Chamber of Commerce - Join us in front of the Chamber office for popcorn & hot pretzels served up by The Kiwanis Club of Middletown as well as Free Wagon Rides on Main Street. The wagon rides will take a short break while the Tree Lighting is happening on the South Green and the Rides will resume after the Tree Lighting at the Middlesex Chamber!\n\n\n \n\n\n	5:00 - 6:00 p.m. - South Green- Join the Carol Sing with Middletown High School Concert Choir and the Beman Middle School Choir\, sponsored by Middletown Commission on the Arts\, with Emcee Trevor Davis from Trevor Davis Commercial Real Estate\, LLC!\n\n\n \n\n\n	5:40 p.m. - Led by the Middletown High School Marching Band\, International United Miss Alexandria Palmer\, Santa and Mayor Ben Florsheim arrive by the Holiday Wagon Ride for the Tree Lighting on the South Green!\n\n\n \n\n\n	6:00 p.m. - TREE LIGHTING on the South Green - The Mayor and Santa Claus will turn on the lights on the big tree on the South Green!\n\n\n \n\n\n	6:15 p.m. - Parade up Main Street with a stop at Spear Park to light the Holiday Display and then proceed to the Middlesex County Chamber of Commerce (393 Main St)\, where Santa and the Mayor turn on the Lights on the Tree\, donated by Kronenberger & Sons Restoration\, on the Chamber Roof!\n\n\n \n\n\n	Free Pictures with Santa\, courtesy of Pratt & Whitney in front of the Church of the Holy Trinity\, immediately following the Tree Lighting at the Chamber! Pictures will be taken by Lori Lodge!\n\n\n \n\n\n	8:15 p.m. - Annual Tree Lighting in front of Eli Cannon's Tap Room\, 695 Main Street\, where SANTA will arrive by fire engine to light the tree. Elves will be on the sidewalk with Popcorn\, Cookies\, Hot Chocolate and Treats for the Kids!\n\n \n\nPlease Note: In case of inclement weather\, the Tree Lightings & Parade will be held the next evening\, Saturday\, November 27 from 6:00 p.m. to 9:00 p.m.
X-ALT-DESC;FMTTYPE=text/html:<h4 class="_04xlpA direction-ltr align-start para-style-body" open="" style="box-sizing: border-box\; margin: 0px 0px 20px\; padding: 0px\; border: 0px\; font-size: 24px\; font-weight: 600\; vertical-align: baseline\; background-image: initial\; background-position: initial\; background-size: initial\; background-repeat: initial\; background-attachment: initial\; background-origin: initial\; background-clip: initial\; color: rgb(50\, 69\, 69)\; font-family: "><strong style="box-sizing: border-box\; margin: 0px\; padding: 0px\; border: 0px\; vertical-align: baseline\; background: transparent\;"><span class="JsGRdQ" style="box-sizing: border-box\; margin: 0px\; padding: 0px\; border: 0px\; font-weight: normal\; vertical-align: baseline\; background: transparent\;"><a href="https://holidayonmain.com/">&nbsp\;www.holidayonmain.com&nbsp\;</a><br />\n<br />\nMagic of Middletown Tree Lighting Ceremony</span></strong></h4>\n\n<ul>\n	<li style="vertical-align:baseline\;"><strong><span style="border:none windowtext 1.0pt\;padding:0in\;"><span style="color:black\;"><span style="font-family:arial\,sans-serif\;">4:00 p.m. -&nbsp\;8:00 p.m.- Middlesex County Chamber of Commerce -&nbsp\;</span></span></span></strong><span style="border:none windowtext 1.0pt\;padding:0in\;"><span style="color:black\;"><span style="font-family:arial\,sans-serif\;">Join us in front of the Chamber office for<strong>&nbsp\;popcorn &amp\; hot pretzels&nbsp\;</strong>served up by&nbsp\;<strong>The Kiwanis Club of Middletown&nbsp\;</strong>as well as<strong>&nbsp\;Free Wagon Rides</strong>&nbsp\;on Main Street. The wagon rides will take a short break while the Tree Lighting is happening on the South Green and the Rides will resume after the Tree Lighting at the Middlesex Chamber!</span></span></span></li>\n</ul>\n\n<div style="vertical-align:baseline\;">&nbsp\;</div>\n\n<ul>\n	<li style="vertical-align:baseline\;"><strong><span style="border:none windowtext 1.0pt\;padding:0in\;"><span style="color:black\;"><span style="font-family:arial\,sans-serif\;">5:00 -&nbsp\;6:00 p.m. - South Green-&nbsp\;</span></span></span></strong><span style="border:none windowtext 1.0pt\;padding:0in\;"><span style="color:black\;"><span style="font-family:arial\,sans-serif\;">Join the<strong>&nbsp\;Carol Sing</strong>&nbsp\;with<strong>&nbsp\;Middletown High School Concert Choir&nbsp\;</strong>and the&nbsp\;<strong>Beman Middle School Choir</strong>\, sponsored by Middletown Commission on the Arts\, with&nbsp\;<strong>Emcee Trevor Davis from Trevor Davis Commercial Real Estate\, LLC</strong>!</span></span></span></li>\n</ul>\n\n<div style="vertical-align:baseline\;">&nbsp\;</div>\n\n<ul>\n	<li style="vertical-align:baseline\;"><strong><span style="border:none windowtext 1.0pt\;padding:0in\;"><span style="color:black\;"><span style="font-family:arial\,sans-serif\;">5:40 p.m. -&nbsp\;</span></span></span></strong><span style="border:none windowtext 1.0pt\;padding:0in\;"><span style="color:black\;"><span style="font-family:arial\,sans-serif\;">Led by the&nbsp\;<strong>Middletown High School Marching Band\, International United Miss Alexandria Palmer\, Santa and Mayor Ben Florsheim&nbsp\;</strong>arrive by the Holiday Wagon Ride for the Tree Lighting on the&nbsp\;<strong>South Green</strong>!</span></span></span></li>\n</ul>\n\n<div style="vertical-align:baseline\;">&nbsp\;</div>\n\n<ul>\n	<li style="vertical-align:baseline\;"><strong><span style="border:none windowtext 1.0pt\;padding:0in\;"><span style="color:black\;"><span style="font-family:arial\,sans-serif\;">6:00 p.m. -&nbsp\;TREE LIGHTING on the South Green -&nbsp\;The Mayor and Santa Claus will turn on the lights on the big tree on the South Green!</span></span></span></strong></li>\n</ul>\n\n<div style="vertical-align:baseline\;">&nbsp\;</div>\n\n<ul>\n	<li style="vertical-align:baseline\;"><strong><span style="border:none windowtext 1.0pt\;padding:0in\;"><span style="color:black\;"><span style="font-family:arial\,sans-serif\;">6:15 p.m. -&nbsp\;Parade up Main Street&nbsp\;</span></span></span></strong><span style="border:none windowtext 1.0pt\;padding:0in\;"><span style="color:black\;"><span style="font-family:arial\,sans-serif\;">with a stop at<strong>&nbsp\;Spear Park</strong>&nbsp\;to light the&nbsp\;<strong>Holiday Display&nbsp\;</strong>and then proceed to the<strong>&nbsp\;Middlesex County Chamber of Commerce&nbsp\;</strong>(393 Main St)\, where&nbsp\;Santa and the Mayor&nbsp\;turn on the<strong>&nbsp\;Lights on the Tree\, donated by Kronenberger &amp\; Sons Restoration\,&nbsp\;</strong>on the Chamber Roof!</span></span></span></li>\n</ul>\n\n<div style="vertical-align:baseline\;">&nbsp\;</div>\n\n<ul>\n	<li style="vertical-align:baseline\;"><strong><span style="border:none windowtext 1.0pt\;padding:0in\;"><span style="color:black\;"><span style="font-family:arial\,sans-serif\;">Free Pictures with Santa\, courtesy of Pratt &amp\; Whitney</span></span></span></strong><span style="border:none windowtext 1.0pt\;padding:0in\;"><span style="color:black\;"><span style="font-family:arial\,sans-serif\;">&nbsp\;in front of the Church of the Holy Trinity\, immediately following the Tree Lighting at the Chamber! Pictures will be taken by Lori Lodge!</span></span></span></li>\n</ul>\n\n<div style="vertical-align:baseline\;">&nbsp\;</div>\n\n<ul>\n	<li style="vertical-align:baseline\;"><strong><span style="border:none windowtext 1.0pt\;padding:0in\;"><span style="color:black\;"><span style="font-family:arial\,sans-serif\;">8:15 p.m. -&nbsp\;Annual Tree Lighting in front of Eli Cannon&#39\;s Tap Room</span></span></span></strong><span style="border:none windowtext 1.0pt\;padding:0in\;"><span style="color:black\;"><span style="font-family:arial\,sans-serif\;">\, 695 Main Street\, where SANTA will arrive by fire engine to light the tree. Elves will be on the sidewalk with Popcorn\, Cookies\, Hot Chocolate and Treats for the Kids!</span></span></span></li>\n</ul>\n&nbsp\;<br />\n<span style="border:none windowtext 1.0pt\;padding:0in\;"><span style="color:black\;"><span style="font-family:arial\,sans-serif\;">Please Note: In case of inclement weather\, the Tree Lightings &amp\; Parade will be held the next evening\, Saturday\, November 27 from 6:00 p.m. to 9:00 p.m.</span></span></span><br />\n<br />\n<br />\n&nbsp\;
LOCATION:Main Street\, Middletown
UID:e.1932.22375
SEQUENCE:3
DTSTAMP:20260423T082809Z
URL:https://business.middlesexchamber.com/events/details/holiday-on-main-street-presents-magic-of-middletown-22375
END:VEVENT

END:VCALENDAR
