BEGIN:VCALENDAR
VERSION:2.0
PRODID:-//ChamberMaster//Event Calendar 2.0//EN
METHOD:PUBLISH
X-PUBLISHED-TTL:P3D
REFRESH-INTERVAL:P3D
CALSCALE:GREGORIAN
BEGIN:VEVENT
DTSTART:20250911T123000Z
DTEND:20250911T133000Z
X-MICROSOFT-CDO-ALLDAYEVENT:FALSE
SUMMARY:Holiday on Main Street Planning Committee
DESCRIPTION:The Holiday on Main Street Planning Committee organizes the beloved annual event in Downtown Middletown\, which spans from the day after Thanksgiving through the following four Saturdays. With a variety of entertainment every week ranging from free horse and wagon rides to Santa Claus\, there is certainly something for everyone.\n\n\n\nThis committee is an open committee! If you would like more information on how you can get involved please contact Haley Stafford by emailing haley@middlesexchamber.com
X-ALT-DESC;FMTTYPE=text/html:The Holiday on Main Street Planning Committee organizes the beloved annual event in Downtown Middletown\, which spans from the day after Thanksgiving through the following four Saturdays. With a variety of entertainment every week ranging from free horse and wagon rides to Santa Claus\, there is certainly something for everyone.<br />\n<br />\n<strong>This committee is an open committee! If you would like more information on how you can get involved please contact Haley Stafford by emailing haley@middlesexchamber.com</strong><br />\n&nbsp\;
LOCATION:Middlesex Chamber 318 High Street Middletown\, CT
UID:e.1932.33575
SEQUENCE:3
DTSTAMP:20260424T224443Z
URL:https://business.middlesexchamber.com/events/details/holiday-on-main-street-planning-committee-33575
END:VEVENT

END:VCALENDAR
