BEGIN:VCALENDAR
VERSION:2.0
PRODID:-//ChamberMaster//Event Calendar 2.0//EN
METHOD:PUBLISH
X-PUBLISHED-TTL:P3D
REFRESH-INTERVAL:P3D
CALSCALE:GREGORIAN
BEGIN:VEVENT
DTSTART:20211204T150000Z
DTEND:20211204T190000Z
X-MICROSOFT-CDO-ALLDAYEVENT:FALSE
SUMMARY:Holiday on Main presents Magic of Middletown
DESCRIPTION:www.holidayonmain.com\n\n\n\nReindeer Games\n \n\n\n	10am & 12pm  Enjoy a reading of Polar Express at Spear Park with Conductor Phil!\n\n\n \n\n\n	11am-12pm- Join us for our FIRST EVER Reindeer Games\, officiated by the Middletown Recreation Department! Gather your family and friends\, and participate in our Reindeer games at Spear Park! These games will be fun for everyone so bring your winning attitude and team spirit!\n\n\n \n\n\n	Enjoy popcorn and hot pretzels outside of the Chamber\, served up by the Disabled American Veterans Club\n\n\n \n\n\n	"Tis the Season to Find a Gnome" Scavenger Hunt- Jingles the Gnome has escaped the Chamber in hopes of finding some holiday magic! Solve the riddle and help us find Jingles at different locations throughout downtown. Take a picture of Jingles (or you in front of Jingles) at all locations and email your images to MagicOfMiddletown@gmail.com. All emails must be received by 3:00PM on Saturday\, December 4 to be entered into the drawing. Upon submission of your email\, you will be added to our weekly drawing for a $100 downtown business district gift card. Winner will be announced on Monday\, December 6 via social media and email.\n\n\n \n\n\n	Get a free picture with Santa on his sleigh! Santa will once again be pulling his sleigh with the help of his favorite reindeer! Stop by and get your picture with Santa before he heads back to the North Pole!\n\n\n \n\n\n	Enjoy free horse & wagon rides down our beautiful Main Street!\n\n\n \n\n\n	Enjoy live music by Bryan Titus as he performs holiday favorites outside of Webster Bank!
X-ALT-DESC;FMTTYPE=text/html:<h5 open="" style="box-sizing: border-box\; margin: 20px 0px 10px\; padding: 0px\; border: 0px\; font-size: 30px\; font-weight: 600\; vertical-align: baseline\; background-image: initial\; background-position: initial\; background-size: initial\; background-repeat: initial\; background-attachment: initial\; background-origin: initial\; background-clip: initial\; color: rgb(50\, 69\, 69)\;"><span style="color:black\;"><span style="font-family:arial\,sans-serif\;"><span style="font-size:22.5pt\;"><a href="https://holidayonmain.com/">www.holidayonmain.com</a><br />\n<br />\nReindeer Games</span></span></span></h5>\n&nbsp\;\n\n<ul>\n	<li style="vertical-align:baseline\;"><strong><span style="border:none windowtext 1.0pt\;padding:0in\;"><span style="color:black\;"><span style="font-family:arial\,sans-serif\;"><span style="font-size:10.5pt\;">10am &amp\; 12pm</span></span></span></span></strong><span style="border:none windowtext 1.0pt\;padding:0in\;"><span style="color:black\;"><span style="font-family:arial\,sans-serif\;"><span style="font-size:10.5pt\;">&ndash\; Enjoy a reading of&nbsp\;<strong>Polar Express</strong></span></span></span></span>&nbsp\;<span style="border:none windowtext 1.0pt\;padding:0in\;"><span style="color:black\;"><span style="font-family:arial\,sans-serif\;"><span style="font-size:10.5pt\;">at Spear Park with Conductor Phil!</span></span></span></span></li>\n</ul>\n\n<div style="vertical-align:baseline\;">&nbsp\;</div>\n\n<ul>\n	<li style="vertical-align:baseline\;"><strong><span style="border:none windowtext 1.0pt\;padding:0in\;"><span style="color:black\;"><span style="font-family:arial\,sans-serif\;"><span style="font-size:10.5pt\;">11am-12pm-</span></span></span></span></strong><span style="border:none windowtext 1.0pt\;padding:0in\;"><span style="color:black\;"><span style="font-family:arial\,sans-serif\;"><span style="font-size:10.5pt\;">&nbsp\;Join us for our&nbsp\;<strong>FIRST EVER Reindeer Games</strong>\, officiated by the Middletown Recreation Department! Gather your family and friends\, and participate in our Reindeer games at&nbsp\;<strong>Spear Park!</strong></span></span></span></span>&nbsp\;<span style="border:none windowtext 1.0pt\;padding:0in\;"><span style="color:black\;"><span style="font-family:arial\,sans-serif\;"><span style="font-size:10.5pt\;">These games will be fun for everyone so&nbsp\;<strong>bring your winning attitude and team spirit!</strong></span></span></span></span></li>\n</ul>\n\n<div style="vertical-align:baseline\;">&nbsp\;</div>\n\n<ul>\n	<li style="vertical-align:baseline\;"><span style="border:none windowtext 1.0pt\;padding:0in\;"><span style="color:black\;"><span style="font-family:arial\,sans-serif\;"><span style="font-size:10.5pt\;">Enjoy<strong>&nbsp\;popcorn and hot pretzels o</strong>utside of the Chamber\, served up by the&nbsp\;<strong>Disabled American Veterans Club</strong></span></span></span></span></li>\n</ul>\n\n<div style="vertical-align:baseline\;">&nbsp\;</div>\n\n<ul>\n	<li style="vertical-align:baseline\;"><strong><span style="border:none windowtext 1.0pt\;padding:0in\;"><span style="color:black\;"><span style="font-family:arial\,sans-serif\;"><span style="font-size:10.5pt\;">&ldquo\;Tis the Season to Find a Gnome&rdquo\; Scavenger Hunt-&nbsp\;</span></span></span></span></strong><span style="border:none windowtext 1.0pt\;padding:0in\;"><span style="color:black\;"><span style="font-family:arial\,sans-serif\;"><span style="font-size:10.5pt\;">Jingles the Gnome has escaped the Chamber in hopes of finding some holiday magic! Solve the riddle and help us find Jingles at different locations throughout downtown. Take a picture of Jingles (or you in front of Jingles) at all locations and email your images to&nbsp\;MagicOfMiddletown@gmail.com. All emails must be received by 3:00PM on Saturday\, December 4 to be entered into the drawing. Upon submission of your email\, you will be added to our weekly drawing for a $100 downtown business district gift card. Winner will be announced on Monday\, December 6 via social media and email.</span></span></span></span></li>\n</ul>\n\n<div style="vertical-align:baseline\;">&nbsp\;</div>\n\n<ul>\n	<li style="vertical-align:baseline\;"><span style="border:none windowtext 1.0pt\;padding:0in\;"><span style="color:black\;"><span style="font-family:arial\,sans-serif\;"><span style="font-size:10.5pt\;">Get a&nbsp\;<strong>free picture with Santa&nbsp\;</strong>on his sleigh! Santa will once again be pulling his sleigh with the help of his favorite reindeer! Stop by and get your picture with Santa before he heads back to the North Pole!</span></span></span></span></li>\n</ul>\n\n<div style="vertical-align:baseline\;">&nbsp\;</div>\n\n<ul>\n	<li style="vertical-align:baseline\;"><span style="border:none windowtext 1.0pt\;padding:0in\;"><span style="color:black\;"><span style="font-family:arial\,sans-serif\;"><span style="font-size:10.5pt\;">Enjoy&nbsp\;<strong>free horse &amp\; wagon rides</strong>&nbsp\;down our beautiful Main Street!</span></span></span></span></li>\n</ul>\n\n<div style="vertical-align:baseline\;">&nbsp\;</div>\n\n<ul>\n	<li style="vertical-align:baseline\;"><span style="border:none windowtext 1.0pt\;padding:0in\;"><span style="color:black\;"><span style="font-family:arial\,sans-serif\;"><span style="font-size:10.5pt\;">Enjoy live music by&nbsp\;<strong>Bryan Titus</strong></span></span></span></span>&nbsp\;<span style="border:none windowtext 1.0pt\;padding:0in\;"><span style="color:black\;"><span style="font-family:arial\,sans-serif\;"><span style="font-size:10.5pt\;">as he performs holiday favorites outside of Webster Bank!</span></span></span></span></li>\n</ul>\n
LOCATION:Main Street\, Middletown
UID:e.1932.22377
SEQUENCE:3
DTSTAMP:20260421T083942Z
URL:https://business.middlesexchamber.com/events/details/holiday-on-main-presents-magic-of-middletown-22377
END:VEVENT

END:VCALENDAR
