BEGIN:VCALENDAR
VERSION:2.0
PRODID:-//ChamberMaster//Event Calendar 2.0//EN
METHOD:PUBLISH
X-PUBLISHED-TTL:P3D
REFRESH-INTERVAL:P3D
CALSCALE:GREGORIAN
BEGIN:VEVENT
DTSTART:20211204T140000Z
DTEND:20211204T200000Z
X-MICROSOFT-CDO-ALLDAYEVENT:FALSE
SUMMARY:Holiday Fair
DESCRIPTION:Church of the Holy Trinity Annual Holiday Fair
X-ALT-DESC;FMTTYPE=text/html:<strong>Church of the Holy Trinity Annual Holiday Fair</strong>
LOCATION:Church of the Holy Trinity 381 Main Street Middletown\, CT
UID:e.1932.22048
SEQUENCE:3
DTSTAMP:20260421T070636Z
URL:https://business.middlesexchamber.com/events/details/holiday-fair-22048
END:VEVENT

END:VCALENDAR
